BEGIN:VCALENDAR
VERSION:2.0
PRODID:-//Arte Que Acontece - ECPv6.15.20//NONSGML v1.0//EN
CALSCALE:GREGORIAN
METHOD:PUBLISH
X-WR-CALNAME:Arte Que Acontece
X-ORIGINAL-URL:https://artequeacontece.com.br
X-WR-CALDESC:Eventos para Arte Que Acontece
REFRESH-INTERVAL;VALUE=DURATION:PT1H
X-Robots-Tag:noindex
X-PUBLISHED-TTL:PT1H
BEGIN:VTIMEZONE
TZID:America/Sao_Paulo
BEGIN:STANDARD
TZOFFSETFROM:-0300
TZOFFSETTO:-0300
TZNAME:-03
DTSTART:20240101T000000
END:STANDARD
END:VTIMEZONE
BEGIN:VEVENT
DTSTART;TZID=America/Sao_Paulo:20250307T100000
DTEND;TZID=America/Sao_Paulo:20250727T170000
DTSTAMP:20260419T115926
CREATED:20250311T183501Z
LAST-MODIFIED:20250311T183501Z
UID:61500-1741341600-1753635600@artequeacontece.com.br
SUMMARY:"Edvard Munch: Technically Speaking" nos Harvard Art Museums
DESCRIPTION:Edvard Munch\, “Two Human Beings (The Lonely Ones)”\, 1906–08. Harvard Art Museums/Busch-Reisinger Museum\, The Philip and Lynn Straus Collection\n\n\n\n\nUma colaboração dinâmica entre especialistas em curadoria e conservação do Harvard Art Museums\, Edvard Munch: Technically Speaking oferece uma rara visão sobre as técnicas inovadoras do artista norueguês e os temas recorrentes em suas pinturas\, xilogravuras\, litografias\, águas-fortes e gravuras combinadas. Graças a uma doação transformadora da coleção de Philip A. e Lynn G. Straus\, o Harvard Art Museums abriga uma das maiores e mais significativas coleções de obras de Munch nos Estados Unidos\, e a exposição apresenta cerca de 70 trabalhos\, incluindo empréstimos importantes do Munchmuseet\, em Oslo. \nOs visitantes são convidados a explorar o processo artístico de Munch\, revelando seu olhar experimental e seu fascínio pela materialidade. Ao longo da vida\, o artista retornou a certos temas repetidamente\, transportando motivos entre a gravura e a pintura e demonstrando como uma única ideia pode gerar diferentes respostas por meio de variações de cor e orientação. Na exposição\, as gravuras são exibidas ao lado das matrizes originais – placas de cobre\, blocos de madeira e pedras litográficas utilizadas na sua criação –\, proporcionando um acesso mais profundo à prática experimental de Munch. Edvard Munch: Technically Speaking também apresenta pesquisas inovadoras que lançam nova luz sobre as técnicas e os processos do artista. \nCuradoria de Elizabeth M. Rudy\, curadora Carl A. Weyerhaeuser de Gravuras\, e Lynette Roth\, curadora Daimler do Museu Busch-Reisinger; com Peter Murphy\, pesquisador curatorial Stefan Engelhorn no Museu Busch-Reisinger. \nPesquisa realizada em colaboração com Ellen Davis\, conservadora associada de pinturas; Penley Knipe\, conservadora sênior Philip e Lynn Straus de obras sobre papel e chefe do Laboratório de Papel; Abby Schleicher\, conservadora assistente de papel; e Kate Smith\, conservadora sênior de pinturas e chefe do Laboratório de Pinturas\, todos do Straus Center for Conservation and Technical Studies; com contribuições de Cambra Sklarz\, pesquisadora curatorial Diane e Michael Maher de Arte Americana; e Kacper Kolęda e Tai Mitsuji\, doutorandos no Departamento de História da Arte e Arquitetura da Universidade de Harvard. \nO apoio para esta exposição é fornecido pelo Melvin R. Seiden and Janine Luke Fund for Publications and Exhibitions\, pela Gladys Krieble Delmas Foundation\, pelo Lois and George de Menil Curatorial Research Fund\, e pelo Care of the Busch-Reisinger Museum Collection Endowment. A programação relacionada conta com o suporte do M. Victor Leventritt Lecture Series Endowment Fund.
URL:https://artequeacontece.com.br/evento/edvard-munch-technically-speaking-nos-harvard-art-museums/
LOCATION:Harvard Art Museums\, 32 Quincy St Mid-Cambridge\, Cambridge\, Massachusetts\, Estados Unidos
CATEGORIES:Boston
ATTACH;FMTTYPE=image/jpeg:https://artequeacontece.com.br/wp-content/uploads/2025/03/500918318.jpg
END:VEVENT
END:VCALENDAR