BEGIN:VCALENDAR
VERSION:2.0
PRODID:-//Arte Que Acontece - ECPv6.15.20//NONSGML v1.0//EN
CALSCALE:GREGORIAN
METHOD:PUBLISH
X-WR-CALNAME:Arte Que Acontece
X-ORIGINAL-URL:https://artequeacontece.com.br
X-WR-CALDESC:Eventos para Arte Que Acontece
REFRESH-INTERVAL;VALUE=DURATION:PT1H
X-Robots-Tag:noindex
X-PUBLISHED-TTL:PT1H
BEGIN:VTIMEZONE
TZID:America/Sao_Paulo
BEGIN:STANDARD
TZOFFSETFROM:-0300
TZOFFSETTO:-0300
TZNAME:-03
DTSTART:20220101T000000
END:STANDARD
END:VTIMEZONE
BEGIN:VEVENT
DTSTART;TZID=America/Sao_Paulo:20230308T110000
DTEND;TZID=America/Sao_Paulo:20230513T190000
DTSTAMP:20260422T110533
CREATED:20230309T200828Z
LAST-MODIFIED:20230309T200831Z
UID:39158-1678273200-1684004400@artequeacontece.com.br
SUMMARY:Eduardo Ver na Galeria Estação
DESCRIPTION:A Geometria e o Sagrado é o nome da exposição que marca a entrada do artista plástico Eduardo Ver no hall de artistas representados pela Galeria Estação. Com 16 xilogravuras\, a individual apresenta a colecionadores e público obras únicas do artista\, sem edição. Um trabalho meticuloso que Ver desenvolve há mais de duas décadas sob a inspiração de simbolismos religiosos\, principalmente da Umbanda\, que são rascunhados em papel e depois entalhados em madeira\, obra que despertou o interesse da galerista Vilma Eid. Ela recorda que graças à insistência de Bené Fonteles\, autor do texto do catálogo da exposição\, e do artista Sérgio Lucena – que Vilma chama de “padrinhos” de Ver –\, passou a prestar atenção à obra do xilogravurista. “Eu conheci seu trabalho ao vivo\, pela primeira vez\, em uma mostra coletiva no Paço das Artes\, em São Paulo\, Modernismo desde aqui\, com curadoria de Claudinei Roberto. A força do trabalho me pegou. Uma obra corajosa\, de grandes dimensões. Símbolos que logo me fizeram lembrar do querido Samico\, mas com uma linguagem muito própria desenvolvida por Ver”\, afirma a galerista. No texto que escreveu para o catálogo da mostra\, Os extraordinários terreiros imaginários de Ver\, Fonteles avalia: “Raros criadores dedicados à gravura no Brasil trabalham com tanta lealdade a uma iconografia mitopoética como Eduardo Ver\, há duas décadas\, com árduo afinco e rara artesania”. Para o artista visual\, escritor e curador\, uma gravura de Ver contém universos paralelos\, múltiplos\, e com uma força que não é só expressiva pela estética mas também pela energia que emana de cada campo vibracional que compõe e recompõe mundos. Ainda de acordo com Fonteles\, a força gráfica da obra de Ver não provém apenas do solo sagrado que pisa. “Ele nos envolve com narrativas de sua vasta cosmovisão desses terreiros imaginários\, revela e vela mundos ainda tão desconhecidos nos quais entidades da Umbanda trafegam e incorporam a alma da terra brasileira”\, afirma. “Com sua técnica esmerada\, de raro apuro no modo de desenhar e gravar a madeira\, imprimir e revelar o além dos mundos\, ele nos leva a contemplar e completar sua obra não só com um olhar meramente estético\, pois precisamos nos deixar levar pela intensidade e energia transcendente que dela vibra e emana”\, pontua.
URL:https://artequeacontece.com.br/evento/eduardo-ver-na-galeria-estacao/
LOCATION:Galeria Estação\, 625 R. Ferreira de Araújo Pinheiros\, São Paulo\, São Paulo\, Brasil
CATEGORIES:São Paulo
ATTACH;FMTTYPE=image/jpeg:https://artequeacontece.com.br/wp-content/uploads/2023/03/71320793-49695617.jpeg
END:VEVENT
END:VCALENDAR