BEGIN:VCALENDAR
VERSION:2.0
PRODID:-//Arte Que Acontece - ECPv6.15.20//NONSGML v1.0//EN
CALSCALE:GREGORIAN
METHOD:PUBLISH
X-WR-CALNAME:Arte Que Acontece
X-ORIGINAL-URL:https://artequeacontece.com.br
X-WR-CALDESC:Eventos para Arte Que Acontece
REFRESH-INTERVAL;VALUE=DURATION:PT1H
X-Robots-Tag:noindex
X-PUBLISHED-TTL:PT1H
BEGIN:VTIMEZONE
TZID:America/Sao_Paulo
BEGIN:STANDARD
TZOFFSETFROM:-0300
TZOFFSETTO:-0300
TZNAME:-03
DTSTART:20220101T000000
END:STANDARD
END:VTIMEZONE
BEGIN:VEVENT
DTSTART;TZID=America/Sao_Paulo:20231215T130000
DTEND;TZID=America/Sao_Paulo:20240130T180000
DTSTAMP:20260422T105356
CREATED:20231211T161320Z
LAST-MODIFIED:20231211T161323Z
UID:45214-1702645200-1706637600@artequeacontece.com.br
SUMMARY:"É pra ontem!" no Ateliê 31
DESCRIPTION:O Ateliê 31 apresenta a exposição coletiva É pra ontem!\, com abertura no dia 15 de dezembro (sexta-feira)\, das 16h às 20h\, com trabalhos que abordam inquietações por meio de atos estéticos sobre as urgências dos tempos atuais em torno de pautas como meio-ambiente\, memórias e tecnologia\, e o impacto das pressões\, condições e limites das relações cotidianas com o mundo. \n\n\n\nCom curadoria de Shannon Botelho\, a mostra tem a participação de 10 artistas contemporâneos – brasileiros e estrangeiros -\, que estiveram reunidos ao longo do ano de 2023 em torno do curso que investiga desenho\, processos e práticas poéticas\, conduzido pelo professor e artista visual Valério Ricci Montani\, na Escola de Artes Visuais do Parque Lage. São eles: Acácia Almeida\, Anne-Marie Maculan\, Cy Tello\, Gilda Nogueira\, Kim Badawi\, Mamaditeiu (Cristiana Braga)\, Marilene Nacarati\,Silvana C. Nicolli\, Valério Ricci Montani e Zilah Garcia. \n\n\n\n“Os artistas\, em uma realidade tão complexa\, experimentam duplamente esse impasse temporal\, pois vivem num mundo acelerado e produzem trabalhos que discutem os limites do tempo presente e todas as suas implicações na vida cotidiana. Discutir temas atuais e as urgências do mundo contemporâneo\, é uma das formas mais eficazes de agenciar mudanças positivas através da produção artística”\, destaca o curador Shannon Botelho. \n\n\n\nDesenhos\, pintura\, objetos e colagens compõem a totalidade da mostra que ocupa a galeria principal do Ateliê 31\, e que tem como discurso conceitual a imagem como forma de elaboração\, projeção de memória ou desejo em uma instância da consciência. \n\n\n\nÉ pra ontem! evoca a urgência como a palavra de ordem no tempo presente. “Apesar do nome que define a exposição não desejamos que a lógica atual da percepção temporal ganhe vulto entre nós. Ao contrário\, o convite que fica estabelecido é que cada visitante possa experimentar e fruir com tranquilidade os instantes de interação com as obras\, permitindo que cada uma delas transmita o seu discurso e componha uma narrativa que nos coloque no coração do tempo”\, destaca o curador.
URL:https://artequeacontece.com.br/evento/e-pra-ontem-no-atelie-31/
LOCATION:Ateliê 31\, Rua México\, 31\, sala 1003 - Cinelândia\, Rio de Janeiro\, RJ\, Brasil
CATEGORIES:Rio de Janeiro
ATTACH;FMTTYPE=image/jpeg:https://artequeacontece.com.br/wp-content/uploads/2023/12/Silvana-C-Nicolli-Sem-titulo-2023-70-cm-x-100-cm-1.jpg
END:VEVENT
END:VCALENDAR