BEGIN:VCALENDAR
VERSION:2.0
PRODID:-//Arte Que Acontece - ECPv6.15.20//NONSGML v1.0//EN
CALSCALE:GREGORIAN
METHOD:PUBLISH
X-WR-CALNAME:Arte Que Acontece
X-ORIGINAL-URL:https://artequeacontece.com.br
X-WR-CALDESC:Eventos para Arte Que Acontece
REFRESH-INTERVAL;VALUE=DURATION:PT1H
X-Robots-Tag:noindex
X-PUBLISHED-TTL:PT1H
BEGIN:VTIMEZONE
TZID:America/Sao_Paulo
BEGIN:STANDARD
TZOFFSETFROM:-0300
TZOFFSETTO:-0300
TZNAME:-03
DTSTART:20220101T000000
END:STANDARD
END:VTIMEZONE
BEGIN:VEVENT
DTSTART;TZID=America/Sao_Paulo:20231115T100000
DTEND;TZID=America/Sao_Paulo:20240414T200000
DTSTAMP:20260422T054753
CREATED:20240108T205344Z
LAST-MODIFIED:20240108T205348Z
UID:45366-1700042400-1713124800@artequeacontece.com.br
SUMMARY:"E o silêncio nagô calou em mim" de Denise Camargo no Centro Cultural Fiesp
DESCRIPTION:Ao visitar a exposição E o silêncio nagô calou em mim\, que chega à Galeria de Fotos do Centro Cultural Fiesp\, em 15/11\, o público terá a chance de enfrentar seus pré-conceitos sobre os ritos e mitos que envolvem as religiões de matriz africana no Brasil. Também poderá aperceber-se de suas identidades nas imagens produzidas pela educadora\, pesquisadora e artista visual\, Denise Camargo.  \n\n\n\nAs séries\, realizadas desde os anos 1990\, são em maioria produzidas na Casa das Águas\, terreiro localizado em Amador Bueno – SP. Há também imagens feitas em um templo de vodu\, em Nova Orleans\, Estados Unidos\, entre outras que compõem a mostra. Terreiros são territórios de resistência cultural e simbólica que atravessam a história do Brasil – e contribuem para a preservação das tradições afro-brasileiras. \n\n\n\nA pesquisa poética\, iniciada para o doutorado de Denise no Instituto de Artes da Universidade Estadual de Campinas (UNICAMP)\, com orientação da cantora e bailarina Inaicyra Falcão dos Santos\, foi mostrada pela primeira vez em 2010. O projeto se consolidou em 2013 e já fez itinerância por Salvador\, Brasília e Santa Catarina. Inédita em São Paulo\, a exposição procura mais uma vez dissolver pensamentos carregados de preconceito e intolerância\, trazendo os visitantes para um mergulho no ambiente mítico-ritual.  \n\n\n\n“Trata-se de um espaço de experiência\, de imersão cultural\, de contemplação e respeito ao acervo de saberes”\, detalha Denise\, vencedora do Prêmio Palmares em 2012 para publicação da tese Imagética do candomblé\, uma criação no espaço mítico-ritual.  \n\n\n\nAs lentes de Denise capturaram e eternizaram imagens que procuram fugir da obviedade dos registros fotográficos sobre o tema. Na exposição\, além das fotos\, obras como textos poéticos da artista\, objetos e um vídeo\, editado pelo fotógrafo Guga Ferri. Há ainda um aplicativo\, desenvolvido com a cooperação do artista interdisciplinar Fernando Fogliano\, para coletar respostas à pergunta: O que cala em você? “A ideia é proporcionar diálogos com o público\, construindo uma obra colaborativa e de interação”\, salienta Denise.  \n\n\n\nA curadoria da exposição é de Diógenes Moura\, escritor\, editor\, roteirista e curador de fotografia na Pinacoteca do Estado de São Paulo\, entre 1998 e maio de 2013\, e\, mais recentemente\, de mostras como Terra em Transe\, em exibição no Centro Cultural do Cariri (CE).  \n\n\n\nA exposição reforça o debate contemporâneo sobre a diversidade étnica e cultural do Brasil como um patrimônio imaterial. “Além disso\, promove uma ruptura das visões equivocadas e estereotipadas dos terreiros\, difundidas\, entre outros fatores\, em razão do proposital temor criado em torno desses espaços”\, complementa Denise. “A exposição trata desse silêncio profundo diante do desconhecido\, diante desse mundo proibido que poderá ser entregue à compreensão dos outros”\, observa o curador.
URL:https://artequeacontece.com.br/evento/e-o-silencio-nago-calou-em-mim-de-denise-camargo-no-centro-cultural-fiesp/
LOCATION:Centro Cultural Fiesp\, Avenida Paulista\, 1313\, Bela Vista\, São Paulo\, SP\, Brasil
CATEGORIES:São Paulo
ATTACH;FMTTYPE=image/jpeg:https://artequeacontece.com.br/wp-content/uploads/2024/01/h8ZTBwXVFchjJ9iqHHX4Pv13112023182214-3-1-1.jpg
END:VEVENT
END:VCALENDAR