BEGIN:VCALENDAR
VERSION:2.0
PRODID:-//Arte Que Acontece - ECPv6.15.20//NONSGML v1.0//EN
CALSCALE:GREGORIAN
METHOD:PUBLISH
X-WR-CALNAME:Arte Que Acontece
X-ORIGINAL-URL:https://artequeacontece.com.br
X-WR-CALDESC:Eventos para Arte Que Acontece
REFRESH-INTERVAL;VALUE=DURATION:PT1H
X-Robots-Tag:noindex
X-PUBLISHED-TTL:PT1H
BEGIN:VTIMEZONE
TZID:America/Sao_Paulo
BEGIN:STANDARD
TZOFFSETFROM:-0300
TZOFFSETTO:-0300
TZNAME:-03
DTSTART:20240101T000000
END:STANDARD
END:VTIMEZONE
BEGIN:VEVENT
DTSTART;TZID=America/Sao_Paulo:20251025T100000
DTEND;TZID=America/Sao_Paulo:20260110T190000
DTSTAMP:20260422T053457
CREATED:20251024T142132Z
LAST-MODIFIED:20251024T144417Z
UID:65918-1761386400-1768071600@artequeacontece.com.br
SUMMARY:“Double Exposure” de Carlos Garaicoa na Galeria Almeida & Dale
DESCRIPTION:Carlos Garaicoa\, “υ (Ípsilon)” 2024.\nCarlos Garaicoa inaugura Double Exposure\, sua primeira individual em São Paulo em seis anos\, que acontece simultaneamente na Almeida & Dale e na Galleria Continua. \nA mostra\, composta por trabalhos que transitam entre pintura\, escultura e instalação\, aborda temas centrais na produção do artista: a arquitetura\, a matemática\, a geometria e o tecido social das cidades. Entre eles\, está um novo grupo de trabalhos em que imagens fotográficas passam por intervenções com tinta óleo e materiais diversos para criar cenas nas quais formas orgânicas irrompem da paisagem urbana. Já nas obras da série π=3\,1416\, Garaicoa retoma\, de certo modo\, sua origem como pintor\, com peças que recaem no limiar da bi e tridimensionalidade\, enquanto examinam a geometria e dialogam com vertentes do construtivismo e concretismo. Outro destaque\, Toda utopia passa pela barriga\, é uma instalação concebida entre 2008 e 2024\, que toca em temas como isolamento e alimentação — em sua dimensão histórica na formação das sociedades e diante dos atuais conflitos que levam à escassez e à fome. \nCom obras inéditas e séries consagradas internacionalmente\, Double Exposure reflete uma pesquisa artística coesa e\, ao mesmo tempo\, em constante reinvenção. \n  \n 
URL:https://artequeacontece.com.br/evento/double-exposure-de-carlos-garaicoa-na-galeria-almeida-dale/
LOCATION:Almeida & Dale\, Rua Fradique Coutinho\, 1430 – Pinheiros\, São Paulo\, SP\, Brazil
CATEGORIES:São Paulo
ATTACH;FMTTYPE=image/jpeg:https://artequeacontece.com.br/wp-content/uploads/2025/10/carlos-garaicoa_ph-oak-taylor-smith-1920x1432-1.jpg
END:VEVENT
END:VCALENDAR