BEGIN:VCALENDAR
VERSION:2.0
PRODID:-//Arte Que Acontece - ECPv6.15.20//NONSGML v1.0//EN
CALSCALE:GREGORIAN
METHOD:PUBLISH
X-WR-CALNAME:Arte Que Acontece
X-ORIGINAL-URL:https://artequeacontece.com.br
X-WR-CALDESC:Eventos para Arte Que Acontece
REFRESH-INTERVAL;VALUE=DURATION:PT1H
X-Robots-Tag:noindex
X-PUBLISHED-TTL:PT1H
BEGIN:VTIMEZONE
TZID:America/Sao_Paulo
BEGIN:STANDARD
TZOFFSETFROM:-0300
TZOFFSETTO:-0300
TZNAME:-03
DTSTART:20230101T000000
END:STANDARD
END:VTIMEZONE
BEGIN:VEVENT
DTSTART;TZID=America/Sao_Paulo:20241109T100000
DTEND;TZID=America/Sao_Paulo:20250406T180000
DTSTAMP:20260419T122017
CREATED:20241107T160827Z
LAST-MODIFIED:20241107T160827Z
UID:59182-1731146400-1743962400@artequeacontece.com.br
SUMMARY:"Domingo no parque" de Renata Lucas na Pinacoteca Estação
DESCRIPTION:Renata Lucas\, “Andar de Cima”\, 2018 © Renata Lucas\n\n\n\n\nEm “Domingo no parque”\, a radicalidade do trabalho da artista Renata Lucas se evidencia no confronto não apenas com a escala das três salas expositivas do museu\, mas também a fachada e a praça em frente ao prédio da Pina Estação\, localizada no Largo General Osório. \nA exposição conta com ações externas. Na fachada do edifício\, um grande letreiro estampa a frase “Amanhã não tem feira”\, trecho da música de Gilberto Gil\, que só pode ser lida inteiramente a partir da praça. Sob a ótica de uma tragédia amorosa\, a música conta como um homem traído realiza um duplo assassinato\, tendo como cenário um parque de diversões. A canção\, composta em 1967\, no contexto de ditadura civil-militar\, torna-se chave para refletir sobre conflitos sociais maiores\, expressos na realidade contraditória de grandes cidades como São Paulo. No dia da abertura\, 9/11\, um sorveteiro distribuirá ao público picolés de morango (também citados por Gil) que guardam versos da música no palito.  \nA segunda operação consiste em traçar e cortar um círculo de 6\,4 metros de raio no Largo General Osório\, como se fosse possível torcer parte da praça em sentido anti-horário\, entrelaçando calçada e jardim. A obra é ainda uma reinterpretação da roda-gigante que Gil menciona na canção. Por último\, a artista intervém na calçada do edifício: para acessar o prédio pela entrada principal\, o público atravessa um grande carpete vermelho\, repleto de intervenções com bitucas de cigarros\, conectando o lado de dentro e o lado de fora.
URL:https://artequeacontece.com.br/evento/domingo-no-parque-de-renata-lucas-na-pinacoteca-estacao/
LOCATION:Estação Pinacoteca\, 66 Largo Galeria Osório Santa Ifigênia\, São Paulo\, São Paulo\, Brasil
CATEGORIES:São Paulo
ATTACH;FMTTYPE=image/jpeg:https://artequeacontece.com.br/wp-content/uploads/2024/11/luisastrina-renata-lucas-andar-de-cima-2018.jpg
END:VEVENT
END:VCALENDAR