BEGIN:VCALENDAR
VERSION:2.0
PRODID:-//Arte Que Acontece - ECPv6.15.20//NONSGML v1.0//EN
CALSCALE:GREGORIAN
METHOD:PUBLISH
X-WR-CALNAME:Arte Que Acontece
X-ORIGINAL-URL:https://artequeacontece.com.br
X-WR-CALDESC:Eventos para Arte Que Acontece
REFRESH-INTERVAL;VALUE=DURATION:PT1H
X-Robots-Tag:noindex
X-PUBLISHED-TTL:PT1H
BEGIN:VTIMEZONE
TZID:America/Sao_Paulo
BEGIN:STANDARD
TZOFFSETFROM:-0300
TZOFFSETTO:-0300
TZNAME:-03
DTSTART:20240101T000000
END:STANDARD
END:VTIMEZONE
BEGIN:VEVENT
DTSTART;TZID=America/Sao_Paulo:20251108T100000
DTEND;TZID=America/Sao_Paulo:20251220T190000
DTSTAMP:20260422T071647
CREATED:20251112T192554Z
LAST-MODIFIED:20251112T192554Z
UID:66140-1762596000-1766257200@artequeacontece.com.br
SUMMARY:"Do Vento" de Xavier Veilhan na Nara Roesler São Paulo
DESCRIPTION:Xavier Veilhan\, embarcação Outremer 5X. Divulgação.\n  \nA exposição individual do artista francês Xavier Veilhan\, conta com obras concebidas através do seu Transatlantic Studio – projeto no qual o artista transfere seu estúdio para um veleiro\, oferecendo uma alternativa ao transporte aéreo para o transporte de obras de arte. \nA bordo do catamarã Outremer 5X – uma embarcação movida a energia eólica feita com 50% de fibra de linho –\, Veilhan\, sua equipe e suas obras atravessarão o Oceano Atlântico\, partindo de Concarneau\, na Bretanha\, França\, e chegando ao porto de Santos\, Brasil. O artista desenvolverá parte das obras durante a viagem e as concluirá em São Paulo\, onde serão apresentadas ao público na Nara Roesler São Paulo\, de 8 de novembro de 2025 a 31 de janeiro de 2026. \nA intenção é que Veilhan trabalhe como faz em seu estúdio na França. O barco não é apenas um meio de transporte\, mas um estúdio em movimento. Para produzir esculturas a bordo\, a equipe trará equipamentos para trabalhar madeira da França\, projetados por Antoine\, construídos para funcionar sem eletricidade\, como uma serra de fita acionada por pedal. \nEm Do vento\, Xavier Veilhan revisita uma preocupação central em sua prática: a relação entre a segunda e a terceira dimensões. Para o artista\, toda escultura começa como uma linha\, e é através de sua acumulação e sucessão que o volume emerge. Essa articulação entre o gráfico e o espacial reflete a passagem da imagem para a realidade. Um ritmo linear se desdobra ao longo da exposição: em desenhos de parede\, móbiles e esculturas\, nas quais camadas de madeira compensada montadas sugerem ao mesmo tempo estrutura e fluidez. \nEvocando a linha constante do horizonte e as coordenadas móveis das cartas náuticas que deram origem à exposição\, essas formas traduzem a travessia transatlântica de Veilhan em um desenho espacial onde orientação e movimento coexistem. \nA exposição também incluirá um vídeo\, feito durante a viagem\, que entrelaça elementos de ficção e documentário. Como observa Veilhan\, o projeto é “uma celebração de tudo o que está vivo\, uma celebração da natureza”.
URL:https://artequeacontece.com.br/evento/do-vento-de-xavier-veilhan-na-nara-roesler-sao-paulo/
LOCATION:Nara Roesler\, Av. Europa\, 655 - Jardim Europa\, São Paulo\, SP\, Brasil
CATEGORIES:São Paulo
ATTACH;FMTTYPE=image/jpeg:https://artequeacontece.com.br/wp-content/uploads/2025/11/Xavier-Veilhan-explore.jpg
END:VEVENT
END:VCALENDAR