BEGIN:VCALENDAR
VERSION:2.0
PRODID:-//Arte Que Acontece - ECPv6.15.20//NONSGML v1.0//EN
CALSCALE:GREGORIAN
METHOD:PUBLISH
X-WR-CALNAME:Arte Que Acontece
X-ORIGINAL-URL:https://artequeacontece.com.br
X-WR-CALDESC:Eventos para Arte Que Acontece
REFRESH-INTERVAL;VALUE=DURATION:PT1H
X-Robots-Tag:noindex
X-PUBLISHED-TTL:PT1H
BEGIN:VTIMEZONE
TZID:America/Sao_Paulo
BEGIN:STANDARD
TZOFFSETFROM:-0300
TZOFFSETTO:-0300
TZNAME:-03
DTSTART:20230101T000000
END:STANDARD
END:VTIMEZONE
BEGIN:VEVENT
DTSTART;TZID=America/Sao_Paulo:20240801T110000
DTEND;TZID=America/Sao_Paulo:20240906T190000
DTSTAMP:20260422T072424
CREATED:20240806T180329Z
LAST-MODIFIED:20240806T180329Z
UID:50146-1722510000-1725649200@artequeacontece.com.br
SUMMARY:"Do céu e da pedra" de Ana Hupe na Portas Vilaseca Galeria
DESCRIPTION:Obra de Ana Hupe. Imagem / Divulgação\n\n\n\n\nA Portas Vilaseca tem o prazer de apresentar “Do céu e da pedra”\, nova exposição individual da artista Ana Hupe\, com curadoria de Juliana Gontijo. \nO evento de abertura acontece na próxima quinta-feira\, dia 1o de agosto\, a partir das 19h00. “Do céu e da pedra” segue em cartaz até o dia 6 de setembro e o horário de visitação é de terça a sexta-feira (das 11h00 às 19h00) e aos sábados (das 11h00 às 17h00). Entrada gratuita. \nCom cerca de 40 obras\, distribuídas pelos três andares da galeria\, a mostra aborda temas como imanência e transcendência\, a mística das formas\, violências extrativistas e movimentos revolucionários. Essas reflexões são apresentadas por meio de serigrafias\, tecidos\, bordados\, objetos encontrados e fotogramas dispostos em uma expografia instalativa. \nSegundo a curadora Juliana Gontijo\, “cada trabalho apresentado é uma história que nasce do encontro com um signo ou com o silêncio das entrelinhas de um texto\, a fim de compor com experiências que a artista descobre em cada uma de suas viagens. Entre a pedra e o céu\, encontramos emaranhadas as relações coloniais triangulares entre Brasil\, África Ocidental e Europa — em particular a Alemanha\, país no qual a artista reside. Hupe utiliza como guia metodológico a fabulação crítica\, processo que atrela a pesquisa histórica ao “poder de inventar”\, como diz a escritora Saidiya Hartman\, e assim contar aspectos da vida de pessoas e fatos esquecidos\, abrindo vias de reparações históricas para além do objeto em si”.
URL:https://artequeacontece.com.br/evento/do-ceu-e-da-pedra-de-ana-hupe-na-portas-vilaseca-galeria/
LOCATION:Portas Vilaseca\, Rua Dona Mariana\, 137 casa 2\, Botafogo\, Rio de Janeiro\, RJ\, Brasil
CATEGORIES:Rio de Janeiro
ATTACH;FMTTYPE=image/jpeg:https://artequeacontece.com.br/wp-content/uploads/2024/08/AH_077_web-1.jpg
END:VEVENT
END:VCALENDAR