BEGIN:VCALENDAR
VERSION:2.0
PRODID:-//Arte Que Acontece - ECPv6.15.20//NONSGML v1.0//EN
CALSCALE:GREGORIAN
METHOD:PUBLISH
X-WR-CALNAME:Arte Que Acontece
X-ORIGINAL-URL:https://artequeacontece.com.br
X-WR-CALDESC:Eventos para Arte Que Acontece
REFRESH-INTERVAL;VALUE=DURATION:PT1H
X-Robots-Tag:noindex
X-PUBLISHED-TTL:PT1H
BEGIN:VTIMEZONE
TZID:America/Sao_Paulo
BEGIN:STANDARD
TZOFFSETFROM:-0300
TZOFFSETTO:-0300
TZNAME:-03
DTSTART:20220101T000000
END:STANDARD
END:VTIMEZONE
BEGIN:VEVENT
DTSTART;TZID=America/Sao_Paulo:20230624T100000
DTEND;TZID=America/Sao_Paulo:20240407T173000
DTSTAMP:20260422T053025
CREATED:20230628T140344Z
LAST-MODIFIED:20230628T140347Z
UID:41837-1687600800-1712511000@artequeacontece.com.br
SUMMARY:"DIVA" no V&A Museum
DESCRIPTION:A exposição DIVA é uma celebração da poderosa presença e criatividade das artistas icônicas ao longo da história. Através de uma abordagem abrangente\, a mostra redefine o conceito de ‘diva’ e explora como esse termo foi subvertido ou abraçado em diferentes formas de expressão\, como ópera\, teatro\, música popular e cinema. A exposição\, sediada no Victoria and Albert Museum (V&A)\, apresenta uma visão envolvente e cativante do mundo das divas\, revelando a influência cultural e artística que essas mulheres tiveram ao longo dos anos. Através de uma variedade de mídias\, incluindo figurinos\, fotografias\, vídeos e objetos pessoais\, os visitantes são levados a uma jornada fascinante pela história das divas e sua evolução ao longo do tempo. Uma das principais características da exposição é a exploração da transformação do conceito de ‘diva’ e como ele se relaciona com questões de gênero\, poder e representação. Os curadores da mostra destacam como as divas desafiaram estereótipos e expectativas sociais\, redefinindo o papel das mulheres na indústria do entretenimento. Além disso\, a exposição destaca a importância das divas como ícones de moda e estilo\, apresentando figurinos deslumbrantes usados por essas artistas em performances lendárias. Os visitantes têm a oportunidade de apreciar de perto peças de alta costura e acessórios deslumbrantes\, que refletem o glamour e a exuberância associados às divas.
URL:https://artequeacontece.com.br/evento/diva-no-va-museum/
LOCATION:Victoria and Albert Museum (V&A)\, Cromwell Rd\, Londres\, Reino unido
CATEGORIES:Londres
ATTACH;FMTTYPE=image/jpeg:https://artequeacontece.com.br/wp-content/uploads/2023/06/1920-1.jpg
END:VEVENT
END:VCALENDAR