BEGIN:VCALENDAR
VERSION:2.0
PRODID:-//Arte Que Acontece - ECPv6.15.20//NONSGML v1.0//EN
CALSCALE:GREGORIAN
METHOD:PUBLISH
X-WR-CALNAME:Arte Que Acontece
X-ORIGINAL-URL:https://artequeacontece.com.br
X-WR-CALDESC:Eventos para Arte Que Acontece
REFRESH-INTERVAL;VALUE=DURATION:PT1H
X-Robots-Tag:noindex
X-PUBLISHED-TTL:PT1H
BEGIN:VTIMEZONE
TZID:America/Sao_Paulo
BEGIN:STANDARD
TZOFFSETFROM:-0300
TZOFFSETTO:-0300
TZNAME:-03
DTSTART:20240101T000000
END:STANDARD
END:VTIMEZONE
BEGIN:VEVENT
DTSTART;TZID=America/Sao_Paulo:20251118T100000
DTEND;TZID=America/Sao_Paulo:20251206T190000
DTSTAMP:20260422T054542
CREATED:20251117T190142Z
LAST-MODIFIED:20251117T190142Z
UID:66219-1763460000-1765047600@artequeacontece.com.br
SUMMARY:“Dinâmicas do Invisível” de Bernardo Mora na Sergio Gonçalves Galeria
DESCRIPTION:Bernado Mora\, s.t. Divulgação.\n  \nLegitimando a arte óptica e cinética no DNA de sua trajetória como artista visual\, Bernardo Mora apresenta um recorte com obras de produção recente\, a partir do dia 18 de novembro\, na Sergio Gonçalves Galeria. Suas abstrações rompem com as relações conservadoras existentes e criam novas perspectivas através de texturas\, estados ópticos e movimentos. Como ele mesmo define sua criação\, trata-se de uma “abstractocromia lírica”\, uma exploração da abstração através de ensaios permanentes de movimentos visuais de cor\, padrões geométricos\, progressões cromáticas\, musicalidade rítmica e contrastes. \nArquiteto colombiano formado pela École d’Architecture Paris Val-de-Marne\, Bernardo vive e trabalha em Curitiba. Após anos na Europa\, retomou a produção artística no Brasil\, onde desenvolveu um extenso acervo. Suas experiências em cidades como Caracas\, Nova York\, Paris e Barcelona ajudaram a aguçar seu olhar. Desde 2015\, dedica-se integralmente à arte. \nA mostra reúne cerca de 15 trabalhos em acrílica sobre tela\, sendo alguns polípticos\, entre médio e grande formatos. A visitação segue até o início de dezembro\, na casa na Alameda Gabriel Monteiro\, fechando a programação de 2025 no espaço\, que completa mais de um ano estabelecido em São Paulo\, mantendo galerias também no Rio de Janeiro e em Curitiba. \n 
URL:https://artequeacontece.com.br/evento/dinamicas-do-invisivel-de-bernardo-mora-na-sergio-goncalves-galeria/
LOCATION:Sergio Gonçalves Galeria\, Alameda Gabriel Monteiro da Silva\, 484 – Jardim América\, São Paulo\, SP\, Brazil
CATEGORIES:São Paulo
ATTACH;FMTTYPE=image/jpeg:https://artequeacontece.com.br/wp-content/uploads/2025/11/Bernardo-Mora-11.jpg
END:VEVENT
END:VCALENDAR