BEGIN:VCALENDAR
VERSION:2.0
PRODID:-//Arte Que Acontece - ECPv6.15.20//NONSGML v1.0//EN
CALSCALE:GREGORIAN
METHOD:PUBLISH
X-WR-CALNAME:Arte Que Acontece
X-ORIGINAL-URL:https://artequeacontece.com.br
X-WR-CALDESC:Eventos para Arte Que Acontece
REFRESH-INTERVAL;VALUE=DURATION:PT1H
X-Robots-Tag:noindex
X-PUBLISHED-TTL:PT1H
BEGIN:VTIMEZONE
TZID:America/Sao_Paulo
BEGIN:STANDARD
TZOFFSETFROM:-0300
TZOFFSETTO:-0300
TZNAME:-03
DTSTART:20220101T000000
END:STANDARD
END:VTIMEZONE
BEGIN:VEVENT
DTSTART;TZID=America/Sao_Paulo:20231028T100000
DTEND;TZID=America/Sao_Paulo:20240324T170000
DTSTAMP:20260422T072844
CREATED:20240314T191707Z
LAST-MODIFIED:20240314T191710Z
UID:47285-1698487200-1711299600@artequeacontece.com.br
SUMMARY:"Digital Iridescence: Jell-O in New Media" no Museum of Fine Arts Boston
DESCRIPTION:Katherine Mitchell DiRico\, hylomorphism (detalhe)\, 2023. Cortesia da artista. © Katherine Mitchell DiRico.\n\n\n\nA presença do Jell-O na arte contemporânea é uma extensão de sua história visual e cultural. Desde sua invenção em 1897\, o barato porém luxuoso item de despensa atraiu clientes com seu sabor\, bem como suas delícias sensoriais visíveis e táteis. Folhetos de receitas do início e meados do século XX\, repletos de impressões coloridas\, apelavam aos desejos dos consumidores por uma sobremesa “brilhante”\, “suculenta”\, “desejada”\, “decorativa” e “trêmula-tender”. Essas invocações à aparência cintilante do Jell-O acompanhavam garantias dos benefícios para a saúde do alimento\, sua acessibilidade e preparação fácil\, tudo como uma forma de agradar seu mercado-alvo\, de gênero e idealizado: donas de casa\, noivas e mães. \n\n\n\nEm Digital Iridescence: Jell-O in New Media\, cinco artistas contemporâneos usam gelatina em obras de vídeo para explorar temas como encarnação e percepção – ideias adequadas para investigar por meio do Jell-O\, que é corporal e semelhante à carne\, feito de matéria animal\, e distorce e brinca com observação e visão. Sharona Franklin chama as esculturas de gelatina em seu vídeo de “bioshrines”\, destacando seus papéis duplos como organismos vivos e objetos sagrados em seu tratamento de doenças crônicas e deficiências. O vídeo de Alison Kuo aborda sacrifício\, sensualidade e aspiração contidos nas histórias materiais e sociais da gelatina. Além de Franklin e Kuo\, a exposição apresenta artistas locais Katherine Mitchell DiRico e Kelly Chen\, e estreia uma nova obra de Maisie Cousins. Cada artista mobiliza o potencial emocional e sensorial do Jell-O para considerar os construtos sociais santificados de saúde\, beleza\, consumo\, metamorfose\, performance e ritual.
URL:https://artequeacontece.com.br/evento/digital-iridescence-jell-o-in-new-media-no-museum-of-fine-arts-boston/
LOCATION:MFA Boston\, 465 Huntington Ave\, Boston\, Massachusetts\, Estados Unidos
CATEGORIES:Boston
ATTACH;FMTTYPE=image/jpeg:https://artequeacontece.com.br/wp-content/uploads/2024/03/Katherine-Mitchell-DiRico-hylomorphism-detail-2023.-Artwork-courtesy-of-the-artist.-©-Katherine-Mitchell-DiRico.jpg
END:VEVENT
END:VCALENDAR