BEGIN:VCALENDAR
VERSION:2.0
PRODID:-//Arte Que Acontece - ECPv6.15.20//NONSGML v1.0//EN
CALSCALE:GREGORIAN
METHOD:PUBLISH
X-WR-CALNAME:Arte Que Acontece
X-ORIGINAL-URL:https://artequeacontece.com.br
X-WR-CALDESC:Eventos para Arte Que Acontece
REFRESH-INTERVAL;VALUE=DURATION:PT1H
X-Robots-Tag:noindex
X-PUBLISHED-TTL:PT1H
BEGIN:VTIMEZONE
TZID:America/Sao_Paulo
BEGIN:STANDARD
TZOFFSETFROM:-0300
TZOFFSETTO:-0300
TZNAME:-03
DTSTART:20210101T000000
END:STANDARD
END:VTIMEZONE
BEGIN:VEVENT
DTSTART;TZID=America/Sao_Paulo:20221111T100000
DTEND;TZID=America/Sao_Paulo:20230416T170000
DTSTAMP:20260422T084602
CREATED:20230213T211206Z
LAST-MODIFIED:20230216T141929Z
UID:38444-1668160800-1681664400@artequeacontece.com.br
SUMMARY:Didier William no Moca North Miami
DESCRIPTION:Didier William: Nou Kite Tout Sa Dèyè é a maior exposição individual da carreira de Didier William. Traduzida como “We’ve Left That All Behind” (Deixamos tudo para trás)\, a mostra apresenta um olhar profundo sobre a carreira e a memória do artista nascido em Port-au-Prince (Haiti) em 1983 e criado em North Miami\, onde a exposição está em cartaz\, no Museum of Contemporary Art de North Miami. Com curadoria de Erica Moiah James\, Ph.D.\, a exposição apresenta mais de quarenta obras realizadas em vários suportes\, incluindo algumas de suas mais recentes pinturas. Complementando o trabalho pictórico\, e fazendo referência à estreita relação da pintura e da gravura na prática de William\, figuram na mostra novos desenhos e livros de artista. A individual também apresenta a primeira escultura monumental de William: um corpo de madeira de 12 pés de altura\, que faz referência a uma coluna religiosa presente nos rituais religiosos haitianos. Em uma mistura de reflexões pessoais\, anedotas biográficas e momentos históricos\, algumas das obras apresentadas na mostra recontextualizam uma série de iconografias e conceitos da História da Arte\, despojando-os de suas verdades “conhecidas” e transformando cada um deles em algo inteiramente novo. Com esse procedimento\, William recupera de forma lúdica e sem desculpas a autonomia sobre um registro fragmentado da história\, engajando sua conexão pessoal com a complexidade das narrativas dos imigrantes para criar oportunidades de investigação e redenção. Didier William (Port-au-Prince\, Haiti\, 1983) recebeu seu BFA em pintura no The Maryland Institute College of Art e um MFA em Pintura e Gravura na Yale School of Art. Seu trabalho solo foi exposto na Galeria M+B\, Galeria James Fuentes e Galeria Altman Siegel. Suas exposições coletivas incluem o Museu de Arte do Bronx\, o Museu de Arte Latino-americana\, o Museu da Academia de Belas Artes da Pensilvânia\, e o Museu de Arte Americana de Pontes de Cristal. William foi o ganhador em 2020 da Joan Mitchell Foundation Painters & Sculptors Grant\, e em 2021 da Pew Fellow do The Pew Center for Arts and Heritage. Ele lecionou em várias instituições\, incluindo Yale School of Art\, Vassar College\, Columbia University\, University of Pennsylvania e SUNY Purchase. Atualmente\, é professor assistente na Universidade Rutgers. Didier William vive e trabalha na Filadélfia.
URL:https://artequeacontece.com.br/evento/didier-william-no-moca-north-miami/
LOCATION:Moca North Miami\, 770 NE 125th St North Miami\, Miami\, Flórida\, Estados Unidos
CATEGORIES:Miami
ATTACH;FMTTYPE=image/jpeg:https://artequeacontece.com.br/wp-content/uploads/2023/02/70565298-49206255.jpeg
END:VEVENT
END:VCALENDAR