BEGIN:VCALENDAR
VERSION:2.0
PRODID:-//Arte Que Acontece - ECPv6.15.20//NONSGML v1.0//EN
CALSCALE:GREGORIAN
METHOD:PUBLISH
X-WR-CALNAME:Arte Que Acontece
X-ORIGINAL-URL:https://artequeacontece.com.br
X-WR-CALDESC:Eventos para Arte Que Acontece
REFRESH-INTERVAL;VALUE=DURATION:PT1H
X-Robots-Tag:noindex
X-PUBLISHED-TTL:PT1H
BEGIN:VTIMEZONE
TZID:America/Sao_Paulo
BEGIN:STANDARD
TZOFFSETFROM:-0300
TZOFFSETTO:-0300
TZNAME:-03
DTSTART:20240101T000000
END:STANDARD
END:VTIMEZONE
BEGIN:VEVENT
DTSTART;TZID=America/Sao_Paulo:20250412T120000
DTEND;TZID=America/Sao_Paulo:20250605T170000
DTSTAMP:20260419T102704
CREATED:20250410T143235Z
LAST-MODIFIED:20250414T174214Z
UID:62145-1744459200-1749142800@artequeacontece.com.br
SUMMARY:"Desvairadas e outros cultivos" de Natali Tubenchlak na Abapirá
DESCRIPTION:Obra de Natali Tubenchlak – Divulgação\nA Abapirá\, espaço independente de arte\, localizado num casarão tombado no Centro Histórico do Rio de Janeiro\, abre a exposição “Desvairadas e outros cultivos”\, de Natali Tubenchlak. Com curadoria de Ana Carla Soler\, a mostra propõe uma visita a mais de 25 anos de produção da gravurista niteroiense\, cuja poética transcende a reflexão sobre a construção do feminino e seus desdobramentos cotidianos. Como destaque da exposição\, três obras de grande formato criadas especialmente para o Projeto Janelas da Abapirá\, com apoio do Reviver Centro\, promovido pela prefeitura da cidade. A mostra “Desvairadas e outros cultivos” abre no dia 12 de abril\, às 14h\, e vai até 5 de junho\, com entrada franca. \nNessa exposição na Abapirá\, acompanhamos o desenvolvimento da pesquisa de Natali Tubenchlak em torno de sua relação com as plantas\, ao longo da vida. A mostra reúne três séries de trabalhos recentes e inéditos: Mata Atlântica Dramática\, Viveiros e Desvairadas. Estão lá também algumas obras mais antigas\, que se relacionam com a temática. “É frequente\, nas obras de Natali\, surgirem personagens híbridos\, meio humanos meio vegetais\, figuras cujas cabeças se transformam em brotações. Também é comum que a artista se aproprie de contornos de corpos retirados de seus contextos originais e que perdem as referências de qual narrativa pertencem”\, explica a curadora. Em Desvairadas\, a série mais recente\, Natali se apropria de poses e posturas de luta livre\, e\, nesses contornos\, constrói corpos utilizando folhas e fragmentos vegetais\, evocando a fúria e a graça de entidades femininas em diálogo direto com a natureza. \nCom mais de duas décadas de produção\, Natali Tubenchlak começou sua carreira artística na pintura\, passando para outros meios\, como a gravura\, onde desenvolve um trabalho de excelência técnica. É uma das principais artistas em produção hoje no ateliê de gravura do Museu do Ingá\, um dos mais importantes do país. O Projeto Janelas da Abapirá é uma iniciativa expositiva que promove um diálogo com a Rua do Mercado\, conectando arte e público de forma acessível. O projeto transforma as janelas do casarão Abapirá e seu espaço expositivo em uma vitrine artística\, trazendo exposições individuais e coletivas\, performances e intervenções. O objetivo é provocar reflexões e sensibilizar o público sobre temas diversos\, sempre com a curadoria de artistas e pensadoras\, tornando a arte uma experiência integrada ao cotidiano e ao ambiente urbano. O Projeto Janelas da Abapirá atualmente tem apoio do Reviver Centro\, fomento da Prefeitura do Rio de Janeiro.
URL:https://artequeacontece.com.br/evento/desvairadas-e-outros-cultivos-de-ana-carla-soler-na-abapira/
LOCATION:Abapirá\, Rua do Mercado\, 45 – Centro\, Rio de Janeiro\, RJ\, Brazil
CATEGORIES:Rio de Janeiro
ATTACH;FMTTYPE=image/jpeg:https://artequeacontece.com.br/wp-content/uploads/2025/04/Natali-Tubenchlak_.jpeg
END:VEVENT
END:VCALENDAR