BEGIN:VCALENDAR
VERSION:2.0
PRODID:-//Arte Que Acontece - ECPv6.15.20//NONSGML v1.0//EN
CALSCALE:GREGORIAN
METHOD:PUBLISH
X-WR-CALNAME:Arte Que Acontece
X-ORIGINAL-URL:https://artequeacontece.com.br
X-WR-CALDESC:Eventos para Arte Que Acontece
REFRESH-INTERVAL;VALUE=DURATION:PT1H
X-Robots-Tag:noindex
X-PUBLISHED-TTL:PT1H
BEGIN:VTIMEZONE
TZID:America/Sao_Paulo
BEGIN:STANDARD
TZOFFSETFROM:-0300
TZOFFSETTO:-0300
TZNAME:-03
DTSTART:20230101T000000
END:STANDARD
END:VTIMEZONE
BEGIN:VEVENT
DTSTART;TZID=America/Sao_Paulo:20240124T130000
DTEND;TZID=America/Sao_Paulo:20240317T190000
DTSTAMP:20260422T054428
CREATED:20240208T144649Z
LAST-MODIFIED:20240208T150357Z
UID:46317-1706101200-1710702000@artequeacontece.com.br
SUMMARY:"Des lignes de désir" na Beaux Arts Paris
DESCRIPTION:Béryl Coulomblé\, LL\, 2023. © Sacha Boccara\n\n\n\nDes lignes de désir apresenta os vinte e oito artistas que receberam seu diploma nacional de Belas Artes da École des Beaux-Arts de Paris com Felicitações do Júri em 2023. \n\n\n\nA exposição\, organizada pela curadora Emilie Villez\, reflete a diversidade das propostas artísticas provenientes da Escola. Pinturas\, esculturas\, instalações e vídeos convivem com práticas de performance e edição\, apresentadas por meio de uma programação semanal. \n\n\n\nCaminhos traçados em uma paisagem pela erosão da marcha de humanos ou animais\, as linhas de desejo\, também chamadas de caminhos do livre arbítrio\, são suaves desafios ao sistema. A crítica aos excessos da modernidade constitui um subtexto entre os artistas apresentados. \n\n\n\nSair dos caminhos convencionais\, ao mesmo tempo em que se encontra um lugar no ecossistema da arte: o objetivo da exposição é\, antes de tudo\, apresentar ao público um panorama das práticas artísticas contemporâneas\, abrindo pistas de ressonância e reflexão sobre a arte e o mundo de hoje.
URL:https://artequeacontece.com.br/evento/des-lignes-de-desir-na-beaux-arts-paris/
LOCATION:Beaux Arts Paris\, 46 Rue de la Ferté Gaucher\, Paris\, França
CATEGORIES:Paris
ATTACH;FMTTYPE=image/jpeg:https://artequeacontece.com.br/wp-content/uploads/2024/02/exposition-des-lignes-de-desir-beaux-arts-de-paris-beryl-coulombie-ll-2023.jpg
END:VEVENT
END:VCALENDAR