BEGIN:VCALENDAR
VERSION:2.0
PRODID:-//Arte Que Acontece - ECPv6.15.20//NONSGML v1.0//EN
CALSCALE:GREGORIAN
METHOD:PUBLISH
X-WR-CALNAME:Arte Que Acontece
X-ORIGINAL-URL:https://artequeacontece.com.br
X-WR-CALDESC:Eventos para Arte Que Acontece
REFRESH-INTERVAL;VALUE=DURATION:PT1H
X-Robots-Tag:noindex
X-PUBLISHED-TTL:PT1H
BEGIN:VTIMEZONE
TZID:America/Sao_Paulo
BEGIN:STANDARD
TZOFFSETFROM:-0300
TZOFFSETTO:-0300
TZNAME:-03
DTSTART:20230101T000000
END:STANDARD
END:VTIMEZONE
BEGIN:VEVENT
DTSTART;TZID=America/Sao_Paulo:20240110T103000
DTEND;TZID=America/Sao_Paulo:20240228T183000
DTSTAMP:20260422T085449
CREATED:20240215T213008Z
LAST-MODIFIED:20240215T213948Z
UID:46425-1704882600-1709145000@artequeacontece.com.br
SUMMARY:"Dear Paris" de Stanley Whitney na Gagosian
DESCRIPTION:Vista da exposição “Dear Paris”\, Gagosian\, Paris. Obras © Stanley Whitney. Foto: Thomas Lannes\n\n\n\nA Gagosian apresenta a exposição da pintura Dear Paris (2023) de Stanley Whitney na rua de Castiglione\, 9\, Paris\, de 10 de janeiro a 28 de fevereiro de 2024. \n\n\n\nInspirada pela estadia prolongada do artista na capital francesa\, Dear Paris é a mais recente das abstrações líricas de Whitney. Equilibrando estrutura sistemática e espontaneidade expressiva\, ele compôs a pintura em sua maneira característica\, um bloco aproximadamente retangular de cada vez\, começando no canto superior esquerdo e progredindo em fileiras através e abaixo da tela. Whitney forma cada forma com pinceladas enérgicas\, escolhendo suas cores vivas e moldando seus limites em relação aos seus predecessores. A geometria livre sutilmente mutável da pintura é ainda demarcada por faixas lineares entre suas fileiras que dividem e unificam a composição. \n\n\n\nDesde a década de 1970\, seguindo a abstração\, Whitney estabeleceu seu estilo maduro na década de 1990 enquanto vivia e trabalhava em Roma. O quadro composicional que ele emprega lhe permite a liberdade de improvisar\, facilitando a emergência de harmonias cromáticas surpreendentes e ritmos visuais dinâmicos. As influências variadas do artista incluem o chamado e resposta polifônico do jazz\, o efeito transformador da luz lançada sobre edifícios históricos\, as tradições da confecção de colchas americana e artistas que vão de Henri Matisse e Piet Mondrian a Giorgio Morandi.
URL:https://artequeacontece.com.br/evento/dear-paris-de-stanley-whitney-na-gagosian/
LOCATION:Gagosian\, 9 Rue de Castiglione\, Paris\, França
CATEGORIES:Paris
ATTACH;FMTTYPE=image/png:https://artequeacontece.com.br/wp-content/uploads/2024/02/Installation-view.-Artwork-Stanley-Whitney.-Photo-by-Thomas-Lannes.png
END:VEVENT
END:VCALENDAR