BEGIN:VCALENDAR
VERSION:2.0
PRODID:-//Arte Que Acontece - ECPv6.15.20//NONSGML v1.0//EN
CALSCALE:GREGORIAN
METHOD:PUBLISH
X-WR-CALNAME:Arte Que Acontece
X-ORIGINAL-URL:https://artequeacontece.com.br
X-WR-CALDESC:Eventos para Arte Que Acontece
REFRESH-INTERVAL;VALUE=DURATION:PT1H
X-Robots-Tag:noindex
X-PUBLISHED-TTL:PT1H
BEGIN:VTIMEZONE
TZID:America/Sao_Paulo
BEGIN:STANDARD
TZOFFSETFROM:-0300
TZOFFSETTO:-0300
TZNAME:-03
DTSTART:20230101T000000
END:STANDARD
END:VTIMEZONE
BEGIN:VEVENT
DTSTART;TZID=America/Sao_Paulo:20240912T110000
DTEND;TZID=America/Sao_Paulo:20241004T180000
DTSTAMP:20260422T070947
CREATED:20240911T133512Z
LAST-MODIFIED:20240911T133512Z
UID:51055-1726138800-1728064800@artequeacontece.com.br
SUMMARY:"de viés" na Quadra RJ
DESCRIPTION:Claudio Cretti\, Biquinho (47)\, 2024. Foto: Everton Ballardin\n\n\n\n\nA exposição “de viés” estabelece um diálogo entre os trabalhos de Claudio Cretti\, Marcelo Pacheco e Thomaz Rosa\, com curadoria de Daniela Avellar. Aqui\, o viés se reflete em questões como o aceno ao oblíquo\, as conversas sinuosas\, as inclinações\, a quebra da ortogonalidade\, assim como na escolha dos materiais\, na relação com a superfície e com a linha\, e na aparição de uma certa geometria.
URL:https://artequeacontece.com.br/evento/de-vies-na-quadra-rj/
LOCATION:Quadra Rio de Janeiro\, Rua Dias Ferreira\, 175/301 – Leblon\, Rio de Janeiro\, RJ\, Brasil
CATEGORIES:Rio de Janeiro
ATTACH;FMTTYPE=image/jpeg:https://artequeacontece.com.br/wp-content/uploads/2024/09/Biquinho-47-2024-Claudio-Cretti.jpg
END:VEVENT
END:VCALENDAR