BEGIN:VCALENDAR
VERSION:2.0
PRODID:-//Arte Que Acontece - ECPv6.15.20//NONSGML v1.0//EN
CALSCALE:GREGORIAN
METHOD:PUBLISH
X-WR-CALNAME:Arte Que Acontece
X-ORIGINAL-URL:https://artequeacontece.com.br
X-WR-CALDESC:Eventos para Arte Que Acontece
REFRESH-INTERVAL;VALUE=DURATION:PT1H
X-Robots-Tag:noindex
X-PUBLISHED-TTL:PT1H
BEGIN:VTIMEZONE
TZID:America/Sao_Paulo
BEGIN:STANDARD
TZOFFSETFROM:-0300
TZOFFSETTO:-0300
TZNAME:-03
DTSTART:20240101T000000
END:STANDARD
END:VTIMEZONE
BEGIN:VEVENT
DTSTART;TZID=America/Sao_Paulo:20250823T100000
DTEND;TZID=America/Sao_Paulo:20251025T190000
DTSTAMP:20260419T103238
CREATED:20250825T194910Z
LAST-MODIFIED:20250825T200024Z
UID:64356-1755943200-1761418800@artequeacontece.com.br
SUMMARY:"De olhos fechados vemos o sol" de Manuela Costa Lima na Quadra
DESCRIPTION:Vista da exposição “De olhos fechados vemos o sol”. Foto: Julia Thompson\nA Quadra inaugura\, no dia 23 de agosto\, a exposição De olhos fechados vemos o sol\, terceira individual da artista Manuela Costa Lima na galeria. Com texto curatorial de Isabella Lenzi\, a mostra apresenta uma instalação inédita e um conjunto de pinturas que aproximam o cotidiano do divino\, o industrial do metafísico e a matéria construída do invisível. \nArquiteta de formação\, Costa Lima constrói sua obra a partir de um olhar sensível à vida comum — ritmo e matérias aproximam sua sensibilidade para um conjunto de gestualidades compositivas. Ao recolher objetos ordinários e pré-fabricados e submetê-los a deslocamentos mínimos\, a artista reorganiza suas funções e presenças\, produzindo trabalhos que revelam alumbramentos presentes no deslocamento e na observação atenta. \nNa instalação central\, placas fotovoltaicas captam a radiação solar e\, sem intermediação ou armazenamento\, acendem lâmpadas incandescentes dispostas no chão de madeira e terra vermelha\, parcialmente enterradas. Sensíveis às variações atmosféricas\, essas lâmpadas — cada uma com cor\, formato e potência próprios — respondem em tempo real à intensidade do sol\, criando um espaço fluido onde luz e calor se tornam experiência imediata sempre em transmutação. \nO diálogo da artista com a espiritualidade também se revela na série Lampejos\, velaturas feitas sobre páginas de um calendário litúrgico cobertas por camadas de pigmento azul ou folhas de ouro. Pequenas janelas abertas na superfície deixam ver palavras como “Mistério”\, “Milagre” e “Mulher”\, lampejos de revelação que interrompem a opacidade da cor. “A energia está dada de antemão\, mas é preciso plugar”\, afirma a artista\,condensando o sentido da obra. \nEm De olhos fechados vemos o sol\, o sagrado é tratado como presença imanente e cotidiana. Nas palavras de Isabella Lenzi\, a exposição oferece “uma experiência física e sensível daquilo que normalmente não se vê. Um espaço que é corpo\, oferenda\, pausa e silêncio para meditação.” \nEntre as exposições individuais recentes de Manuela Costa Lima estão 12\, Galpão NONADA\, Rio de Janeiro\, Brasil (2024); Sistemas Abertos\, Piscina\, São Paulo\, Brasil (2023); Noites Brancas\, Quadra\, São Paulo\, Brasil (2021). A artista também dascoletivas Olhe bem as montanhas\, Quadra\, São Paulo\, Brasil (2024); Regra detrês\, Gisela Projects\, Rio de Janeiro\, Brasil (2024); Ervas daninhas\, Quadra\, São Paulo\, Brasil (2024); Da lua à teta\, Quadra\, Rio de Janeiro\, Brasil (2023); Dimensão da cidade\, Casa das Rosas\, São Paulo\, Brasil (2023); e Pablo’s 21st Birthday\, Pablo’s Birthday Gallery\,Nova York\, EUA (2023). \nTexto Curatorial: Isabella Lenzi
URL:https://artequeacontece.com.br/evento/de-olhos-fechados-vemos-o-sol-de-manuela-costa-lima-na-quadra/
LOCATION:Galeria Quadra\, Rua Barão de Tatuí\, 521\, São Paulo\, SP\, Brasil
CATEGORIES:São Paulo
ATTACH;FMTTYPE=image/jpeg:https://artequeacontece.com.br/wp-content/uploads/2025/08/De-Olhos-Fechados-Vemos-o-Sol-Five-to-Nine_20250821_Ph-Julia-Thompson_02-1.jpg
END:VEVENT
END:VCALENDAR