BEGIN:VCALENDAR
VERSION:2.0
PRODID:-//Arte Que Acontece - ECPv6.15.20//NONSGML v1.0//EN
CALSCALE:GREGORIAN
METHOD:PUBLISH
X-WR-CALNAME:Arte Que Acontece
X-ORIGINAL-URL:https://artequeacontece.com.br
X-WR-CALDESC:Eventos para Arte Que Acontece
REFRESH-INTERVAL;VALUE=DURATION:PT1H
X-Robots-Tag:noindex
X-PUBLISHED-TTL:PT1H
BEGIN:VTIMEZONE
TZID:America/Sao_Paulo
BEGIN:STANDARD
TZOFFSETFROM:-0300
TZOFFSETTO:-0300
TZNAME:-03
DTSTART:20220101T000000
END:STANDARD
END:VTIMEZONE
BEGIN:VEVENT
DTSTART;TZID=America/Sao_Paulo:20230324T100000
DTEND;TZID=America/Sao_Paulo:20230717T190000
DTSTAMP:20260422T054603
CREATED:20230414T213838Z
LAST-MODIFIED:20230414T213841Z
UID:39932-1679652000-1689620400@artequeacontece.com.br
SUMMARY:David Cronenberg e Coleção La Specola na Fondazione Prada
DESCRIPTION:Cere Anatomiche é uma exposição concebida em colaboração com La Specola\, parte do Museu de História Natural e do Sistema Museale di Ateneo da Universidade de Florença\, e o diretor e roteirista canadense David Cronenberg. O projeto representa uma nova etapa no caminho de pesquisa através da qual a Fondazione Prada quer introduzir importantes coleções de ‘museus convidados’\, para oferecer interpretações inesperadas do patrimônio cultural e desencadear um diálogo entre uma coleção histórica e uma instituição contemporânea. Criado em 1775 e atualmente fechado ao público para obras de renovação em seu local histórico\, La Specola é um dos museus de ciência mais antigos da Europa. Abriga mais de 3\,5 milhões de exposições de animais\, a maior coleção mundial de ceras anatômicas do século 18 e a coleção do fabricante de cera siciliano Gaetano Giulio Zumbo (1656-1701). 1\,4 mil peças da extraordinária coleção de ceras anatômicas foram feitas entre o final do século 18 e o início do século 19 para criar um verdadeiro tratado didático-científico que\, sem a necessidade de recorrer à observação direta de um cadáver\, visava ilustrar a anatomia do corpo humano. Cere Anatomiche está dividida em duas partes complementares. Uma exposição reúne treze modelos de cera do século 18 da prestigiosa coleção do museu florentino\, e uma série de setenta e duas cópias de desenhos anatômicos reunidos em nove vitrines. Em particular\, são apresentadas quatro figuras femininas reclináveis\, incluindo uma das obras mais importantes da coleção do museu La Specola\, a chamada Vênus\, um modelo raro com peças decomponíveis conhecido por sua beleza. Um curta sem precedentes intitulado Four Unloved Women\, Adrift on a Purposeless Sea\, Experience the Ecstasy of Dissection\, realizado por David Cronenberg nos espaços do La Specola\, introduz as quatro esculturas de cera em uma dimensão alternativa\, explorando temas como o fascínio pelo corpo humano e suas possíveis mutações e contaminações. O filme de Cronenberg revela a dimensão vital e surpreendente das ceras\, com o objetivo de gerar uma pluralidade de novas respostas emocionais\, sugestões intelectuais e reações intensas. Como explica David Cronenberg\, “As figuras de cera do La Specola foram criadas antes de tudo como uma ferramenta didática\, capaz de revelar os mistérios do corpo humano àqueles que não podiam acessar as raras palestras anatômicas com cadáveres reais realizadas em universidades e hospitais. Em sua tentativa de criar figuras inteiras parcialmente dissecadas\, cuja linguagem corporal e expressão facial não mostrava sofrimento ou agonia e não sugeria a ideia de tortura\, punição ou cirurgia\, os escultores acabaram produzindo figuras vivas aparentemente esmagadas pelo êxtase”.
URL:https://artequeacontece.com.br/evento/david-cronenberg-e-colecao-la-specola-na-fondazione-prada/
LOCATION:Fondazione Prada\, Largo Isarco\, 2\, Milão\, Itália
CATEGORIES:Milão
ATTACH;FMTTYPE=image/jpeg:https://artequeacontece.com.br/wp-content/uploads/2023/04/Cere-anatomiche_18.jpg
END:VEVENT
END:VCALENDAR