BEGIN:VCALENDAR
VERSION:2.0
PRODID:-//Arte Que Acontece - ECPv6.15.20//NONSGML v1.0//EN
CALSCALE:GREGORIAN
METHOD:PUBLISH
X-WR-CALNAME:Arte Que Acontece
X-ORIGINAL-URL:https://artequeacontece.com.br
X-WR-CALDESC:Eventos para Arte Que Acontece
REFRESH-INTERVAL;VALUE=DURATION:PT1H
X-Robots-Tag:noindex
X-PUBLISHED-TTL:PT1H
BEGIN:VTIMEZONE
TZID:America/Sao_Paulo
BEGIN:STANDARD
TZOFFSETFROM:-0300
TZOFFSETTO:-0300
TZNAME:-03
DTSTART:20240101T000000
END:STANDARD
END:VTIMEZONE
BEGIN:VEVENT
DTSTART;TZID=America/Sao_Paulo:20250710T120000
DTEND;TZID=America/Sao_Paulo:20250830T190000
DTSTAMP:20260422T072848
CREATED:20250723T191157Z
LAST-MODIFIED:20250723T191157Z
UID:63866-1752148800-1756580400@artequeacontece.com.br
SUMMARY:"DAREL – 100 anos de um artista contemporâneo" no Centro Cultural Correios
DESCRIPTION:Darel Valença Lins\, Sem título\, c. 1980. Col. Maisa Byington. Foto: Guilherme Isnard\nO centenário de nascimento do desenhista\, pintor\, gravador\, ilustrador e professor Darel Valença Lins (Palmares\, PE 1924–Rio de Janeiro\, 2017) será celebrado com a exposição DAREL – 100 anos de um artista contemporâneo\, no Centro Cultural Correios Rio de Janeiro\, sob curadoria de Denise Mattar. \nA abertura da mostra panorâmica é quarta-feira\, 9 de julho\, às 16h\, com temporada que se estende até 30 de agosto de 2025. \nCom patrocínio do Itaú Cultural\, a exposição reúne cerca de 95 obras\, abrangendo 70 anos de produção do artista\, que marcou sua importância na história da arte do século XX pela excelência das suas litografias à cor e pinturas sensuais. \nSeu legado transita entre a gravura em metal\, óleo sobre tela\, fotomontagem\, guache\, pastel\, desenho e a litografia à cor – técnica da qual foi pioneiro no Brasil. \nPercurso da exposição \nA mostra está organizada por segmentos\, a partir da fase mais conhecida de Darel\, a dos anos 1950|60\, das séries Topografias e Cidades Inventadas\, seguidas dos Anjos. São gravuras\, inicialmente em preto e branco\, às quais o artista introduz pouco a pouco a cor. \nNo começo da década de 1970\, ele faz uma mudança radical de técnica e começa a trabalhar com pastel e lápis de cera. É deste período a série Mulheres da Rua Concórdia. “Poéticas\, patéticas\, dolorosas e sensuais são as cenas que Darel retrata de um prostíbulo\, instalado na casa em que ele viveu na infância”\, descreve a curadora. \nSegue-se a este o conjunto intitulado Baixada Fluminense\, no qual ele busca poesia em histórias inventadas sobre personagens reais.  Sem medo de errar\, o artista usa a digigrafia [gravação de imagem por meios digitais]\, associando colagem\, desenho\, pastel e guache. \nSeus últimos trabalhos são pinturas a óleo de temática floral e uma série de videoarte\, realizadas em seu ateliê no bairro carioca de São Conrado nos anos 2000. Nas flores imensas transborda\, mais do que nunca\, a sensualidade de sua obra. \nA exposição conta ainda com um curta de Allan Ribeiro\, em que o artista conversa com o cinegrafista sobre Dostoievski\, enquanto desenha\, apresentado em loop. O longa documental\, também de Allan Ribeiro\, que inclui suas últimas realizações de Darel\, as videoartes\, terá sessões programadas\, no auditório do Centro Cultural Correios Rio de Janeiro.
URL:https://artequeacontece.com.br/evento/darel-100-anos-de-um-artista-contemporaneo-no-centro-cultural-correios/
LOCATION:Centro Cultural dos Correios\, Rua Visconde de Itaboraí\, 20 – Centro\, Rio de Janeiro\, RJ\, Brasil
CATEGORIES:Rio de Janeiro
ATTACH;FMTTYPE=image/jpeg:https://artequeacontece.com.br/wp-content/uploads/2025/07/9.-Sem-titulo-c.-1980-Litografia-56-x-76-cm-Col.-Maisa-Byington-Foto-Guilherme-Isnard.jpg
END:VEVENT
END:VCALENDAR