BEGIN:VCALENDAR
VERSION:2.0
PRODID:-//Arte Que Acontece - ECPv6.15.20//NONSGML v1.0//EN
CALSCALE:GREGORIAN
METHOD:PUBLISH
X-WR-CALNAME:Arte Que Acontece
X-ORIGINAL-URL:https://artequeacontece.com.br
X-WR-CALDESC:Eventos para Arte Que Acontece
REFRESH-INTERVAL;VALUE=DURATION:PT1H
X-Robots-Tag:noindex
X-PUBLISHED-TTL:PT1H
BEGIN:VTIMEZONE
TZID:America/Sao_Paulo
BEGIN:STANDARD
TZOFFSETFROM:-0300
TZOFFSETTO:-0300
TZNAME:-03
DTSTART:20240101T000000
END:STANDARD
END:VTIMEZONE
BEGIN:VEVENT
DTSTART;TZID=America/Sao_Paulo:20250821T100000
DTEND;TZID=America/Sao_Paulo:20251011T180000
DTSTAMP:20260419T100602
CREATED:20250820T145412Z
LAST-MODIFIED:20250820T145412Z
UID:64274-1755770400-1760205600@artequeacontece.com.br
SUMMARY:"Daniel Senise – Vivo confortavelmente no museu" na Nara Roesler
DESCRIPTION:Daniel Senise\, “Sem título (Bourse de Commerce – Pinault Collection)”\, 2024 – Imagem / Divulgação\nNara Roesler apresenta\, no dia 21 de agosto de 2025\, às 18h\, a exposição “Daniel Senise – Vivo confortavelmente no museu”\, com obras inéditas e recentes do destacado artista\, presente em prestigiosas coleções\, como Stedelijk Museum Amsterdam; Cisneros Fontanals Art Foundation\, Miami\, Estados Unidos; Ludwig Museum\, Colônia\, Alemanha; Museu de Arte Moderna do Rio de Janeiro; Museu de Arte Contemporânea de Niterói (MAC-Niterói); e Museu de Arte de São Paulo (MASP). Um dos expoentes da chamada Geração 80\, Daniel Senise é ativo no circuito da arte há quarenta anos\, tanto no Brasil como no exterior\, tendo participado das 18ª\, 20ª\, 24ª e 29ª edições da Bienal de São Paulo\, Brasil (1985\, 1989\, 1998 e 2010); 44ª Biennale di Venezia\, Itália (1990); 2ª Bienal de La Habana\, Cuba (1986); 11ª Bienal de Cuenca\, Equador (2011)\, entre outras importantes exposições coletivas. \nO percurso da exposição começa com uma obra da série de trabalhos de museus que Daniel Senise vem fazendo: “Sem título (Raoul Dufy)”\, 2025\, com 1\,25 metro por 2\,30 metros\, representando a sala curva do painel em homenagem à eletricidade de Raoul Dufy (1877–1953)\, no Museu de Arte da Cidade de Paris. Em frente está a obra “Sem título (MAM Rio)”\, 2025\, com dois metros de altura por 2\,38 metros de comprimento. No mesmo piso estão duas telas “Sem título 3” (2025)\, com 1\,23 metro por 78cm\, e “Sem título 4” (2024)\, com 1\,15 metro x 95 centímetros\, em que as imagens provocadas são apresentadas sem uma contextualização de espaço. No segundo andar ocupa um lugar de destaque a obra “Sem título (Bourse de Commerce – Pinault Collection)”\, 2024\, com um metro de altura por 2\,80 metros de comprimento onde uma captura de parede que o artista fez ocupa o lugar da pintura decorativa que representa cenas de comércio mundial\, localizada na parte inferior da cúpula do prédio histórico em Paris. \nO título “Vivo confortavelmente no museu” é uma frase dita por um personagem do livro “A invenção de Morel”\, de Bioy Casares (1914-1999) – um condenado à prisão perpétua\, que chega a uma ilha\, e chama de museu a construção abandonada em que mora. O texto crítico que acompanha a mostra é de Luiz Armando Bagolin.
URL:https://artequeacontece.com.br/evento/daniel-senise-vivo-confortavelmente-no-museu-na-nara-roesler/
LOCATION:Nara Roesler  Rio de Janeiro\, R. Redentor\, 241 - Ipanema\, Rio de Janeiro - RJ\, Rio de Janeiro\, Rio de Janeiro\, Brasil
CATEGORIES:Rio de Janeiro
ATTACH;FMTTYPE=image/jpeg:https://artequeacontece.com.br/wp-content/uploads/2025/08/1527-24-–-Sem-titulo-Bourse-de-Commerce-–-Pinault-Collection-2024-1.jpg
END:VEVENT
END:VCALENDAR