BEGIN:VCALENDAR
VERSION:2.0
PRODID:-//Arte Que Acontece - ECPv6.15.20//NONSGML v1.0//EN
CALSCALE:GREGORIAN
METHOD:PUBLISH
X-WR-CALNAME:Arte Que Acontece
X-ORIGINAL-URL:https://artequeacontece.com.br
X-WR-CALDESC:Eventos para Arte Que Acontece
REFRESH-INTERVAL;VALUE=DURATION:PT1H
X-Robots-Tag:noindex
X-PUBLISHED-TTL:PT1H
BEGIN:VTIMEZONE
TZID:America/Sao_Paulo
BEGIN:STANDARD
TZOFFSETFROM:-0300
TZOFFSETTO:-0300
TZNAME:-03
DTSTART:20230101T000000
END:STANDARD
END:VTIMEZONE
BEGIN:VEVENT
DTSTART;TZID=America/Sao_Paulo:20240517T100000
DTEND;TZID=America/Sao_Paulo:20241118T180000
DTSTAMP:20260419T100455
CREATED:20240910T161537Z
LAST-MODIFIED:20240910T161537Z
UID:51017-1715940000-1731952800@artequeacontece.com.br
SUMMARY:Daniel Pommereulle no Musée d'Art Moderne de Paris
DESCRIPTION:Daniel Pommereulle\, Objet de prémonition (detalhe)\, 1974-1975. Museu de Arte Moderna de Paris\, aquisição em 2022 © ADAGP 2024. Fotografia: Rurik Dmitrienko.\n\n\n\n\nPor ocasião da entrada de obras de Daniel Pommereulle na coleção\, o Museu de Arte Moderna de Paris presta homenagem a essa figura singular da cena artística francesa. Pintor\, escultor\, cineasta\, performer e poeta\, Pommereulle atravessou a segunda metade do século XX impulsionado por compromissos radicais\, criando formas que testam nossa vulnerabilidade por meio da experiência da violência e do infinito. \nMobilizado durante a guerra da Argélia em 1957\, Pommereulle foi profundamente marcado por essa experiência traumática\, que permeia suas criações. No início de sua carreira\, ele também foi influenciado pelo onirismo de Odilon Redon\, dos surrealistas e de Henri Michaux\, com quem compartilhava o interesse por drogas alucinógenas. Em 1966\, identificado como um “objetor” pelo crítico Alain Jouffroy\, que aplicou o termo aos artistas que reivindicavam o legado de Marcel Duchamp e a revolta política\, ele expôs Pêcher en fleur no Salon de Mai\, no Museu de Arte Moderna de Paris. Em sua obra\, Pommereulle desenvolve uma estética da violência e da crueldade\, criando objetos ameaçadores e dispositivos de tortura (como Toboggan\, 1974)\, que confrontam diretamente os visitantes. \nConhecido também como ator por suas aparições nos filmes da Nouvelle Vague\, o artista apresentou\, em La Collectionneuse de Éric Rohmer (1967)\, seu primeiro Objet Hors Saisie\, que ele continuaria a desenvolver com a série Objets de prémonition (1975): potes de tinta derramados e esculturas de chumbo\, armados com lâminas de facas e objetos cortantes. Nos anos 1980\, Pommereulle passou um tempo na Coreia e no Japão\, marcando uma virada em seu trabalho. Sua prática gráfica e escultórica\, através do uso de vidro\, pedra e aço\, passou a buscar canalizar energias cósmicas. Até sua morte\, segundo Armance Léger\, “a transparência\, o ar e o vazio se tornaram os novos termos de sua exploração.” \nComissária: Fanny Schulmann\, conservadora-chefe no Museu de Arte Moderna de Paris.
URL:https://artequeacontece.com.br/evento/daniel-pommereulle-no-musee-dart-moderne-de-paris/
LOCATION:Musée d’Art Moderne de Paris\, 11 Av. du Président Wilson Paris\, Paris\, Paris\, França
CATEGORIES:Paris
ATTACH;FMTTYPE=image/jpeg:https://artequeacontece.com.br/wp-content/uploads/2024/09/jcr_content-1-1.jpg
END:VEVENT
END:VCALENDAR