BEGIN:VCALENDAR
VERSION:2.0
PRODID:-//Arte Que Acontece - ECPv6.15.20//NONSGML v1.0//EN
CALSCALE:GREGORIAN
METHOD:PUBLISH
X-WR-CALNAME:Arte Que Acontece
X-ORIGINAL-URL:https://artequeacontece.com.br
X-WR-CALDESC:Eventos para Arte Que Acontece
REFRESH-INTERVAL;VALUE=DURATION:PT1H
X-Robots-Tag:noindex
X-PUBLISHED-TTL:PT1H
BEGIN:VTIMEZONE
TZID:America/Sao_Paulo
BEGIN:STANDARD
TZOFFSETFROM:-0300
TZOFFSETTO:-0300
TZNAME:-03
DTSTART:20240101T000000
END:STANDARD
END:VTIMEZONE
BEGIN:VEVENT
DTSTART;TZID=America/Sao_Paulo:20250610T100000
DTEND;TZID=America/Sao_Paulo:20250802T190000
DTSTAMP:20260419T084457
CREATED:20250610T131231Z
LAST-MODIFIED:20250610T131231Z
UID:63106-1749549600-1754161200@artequeacontece.com.br
SUMMARY:"Dani Cavalier: pinturas sólidas" na Galatea
DESCRIPTION:Dani Cavalier\, “Guarabu”\, 2025 – Divulgação Galatea\nA Galatea apresenta Dani Cavalier: pinturas sólidas\, primeira exposição individual da artista carioca Dani Cavalier (Rio de Janeiro\, 1993)\, com abertura no dia 10 de junho\, das 18h às 21h\, na unidade da galeria na rua Oscar Freire. \nA mostra inaugura a representação de Cavalier pela Galatea e reúne trabalhos que integram sua pesquisa em torno do que a artista denomina pinturas sólidas — obras que tensionam os limites entre pintura\, escultura e instalação por meio da justaposição de blocos de cor em tecidos reaproveitados da indústria da moda. \nAo mesmo tempo que as chamadas pinturas sólidas partem de elementos estruturais da pintura convencional\, como tela\, chassi\, cor e composição\, elas os subvertem. No lugar de tinta e pincel\, Dani utiliza retalhos coloridos de Lycra\, formando composições entrelaçadas que envolvem o chassi e propõem uma nova leitura da superfície pictórica. As pinturas sólidas se revelam\, então\, como uma espécie de dispositivo para discutir as tipologias de pintura na história da arte\, especialmente no domínio da paisagem e da abstração tanto de matriz concreta quanto informal.
URL:https://artequeacontece.com.br/evento/dani-cavalier-pinturas-solidas-na-galatea/
LOCATION:Galatea | Oscar Freire\, Rua Oscar Freire\, 379\, loja 1\, Jardins\, São Paulo\, São Paulo
CATEGORIES:São Paulo
ATTACH;FMTTYPE=image/jpeg:https://artequeacontece.com.br/wp-content/uploads/2025/06/unnamed-7-1.jpg
END:VEVENT
END:VCALENDAR