BEGIN:VCALENDAR
VERSION:2.0
PRODID:-//Arte Que Acontece - ECPv6.15.20//NONSGML v1.0//EN
CALSCALE:GREGORIAN
METHOD:PUBLISH
X-WR-CALNAME:Arte Que Acontece
X-ORIGINAL-URL:https://artequeacontece.com.br
X-WR-CALDESC:Eventos para Arte Que Acontece
REFRESH-INTERVAL;VALUE=DURATION:PT1H
X-Robots-Tag:noindex
X-PUBLISHED-TTL:PT1H
BEGIN:VTIMEZONE
TZID:America/Sao_Paulo
BEGIN:STANDARD
TZOFFSETFROM:-0300
TZOFFSETTO:-0300
TZNAME:-03
DTSTART:20230101T000000
END:STANDARD
END:VTIMEZONE
BEGIN:VEVENT
DTSTART;TZID=America/Sao_Paulo:20240224T100000
DTEND;TZID=America/Sao_Paulo:20240322T190000
DTSTAMP:20260422T053422
CREATED:20240223T160813Z
LAST-MODIFIED:20240223T160817Z
UID:46704-1708768800-1711134000@artequeacontece.com.br
SUMMARY:"da menor importância" de Rodrigo Bivar na Galeria Leme
DESCRIPTION:Rodrigo Bivar\, Vitamina D\, 2023. Foto: Julia Thompson\n\n\n\nConhecido por suas pinturas em óleo sobre tela\, o artista traz para a exposição da menor importância sua produção mais recente\, composta por oito grandes telas e três pinturas em formatos menores\, todas inéditas. Com abertura dia 24 de fevereiro\, às 14h\, na Galeria Leme\, a mostra permanece em cartaz até 22 de março de 2024 e conta com texto crítico do curador Diego Matos. \n\n\n\nEm seu corpo de trabalho\, Rodrigo se interessa pela banalidade do cotidiano. Um homem passeando com seus animais de estimação\, outro fumando um cigarro durante uma pausa no trabalho\, e uma senhora que parece aguardar a chegada ou a passagem de um carro em uma rua qualquer de São Paulo\, são algumas das cenas pintadas pelo artista. As figuras retratadas estão de soslaio\, de passagem em uma espécie de jogo de cena\, que insinua um movimento cinematográfico. \n\n\n\nAo mesmo tempo\, nesse conjunto de trabalhos\, o artista apresenta um número maior de pinturas em grande e médio formatos\, que estabelecem uma relação contrastante entre a arquitetura brutalista da galeria e os cenários comuns de praças\, ruas e terraços em suas obras. \n\n\n\n“No diálogo entre artista e curador\, percebemos um incômodo comum: a banalização da ideia de importância das coisas e do excesso de informação desnecessária\, pelo simples desejo de repercutir e expor vidas desinteressantes como se tivessem alguma relevância para a vida comunitária ou pública. O supérfluo ganha estatuto de imprescindível\, uma relevância que não condiz com a realidade cotidiana das pessoas”\, comenta o curador Diego Matos. \n\n\n\nAprofundando seu interesse pela pintura e suas possibilidades\, Rodrigo ressalta que\, em seus trabalhos mais recentes\, têm observado a relação entre as figuras e a forma de representá-las. “Em outros momentos\, minha produção estava voltada para a representação de muitos elementos dentro de uma mesma obra. Agora estou buscando manter o caráter narrativo das pinturas com o mínimo necessário de elementos e pensando mais na relação entre eles na composição como um todo”\, destaca Rodrigo.
URL:https://artequeacontece.com.br/evento/da-menor-importancia-de-rodrigo-bivar-na-galeria-leme/
LOCATION:Galeria Leme\, Av. Valdemar Ferreira\, 130 - Butantã\, São Paulo\, SP\, Brasil
CATEGORIES:São Paulo
ATTACH;FMTTYPE=image/jpeg:https://artequeacontece.com.br/wp-content/uploads/2024/02/Rodrigo-Bivar_Vitamina-D-2023_Oleo-sobre-tela_200-x-150-cm_Foto-Julia-Thompson.jpg
END:VEVENT
END:VCALENDAR