BEGIN:VCALENDAR
VERSION:2.0
PRODID:-//Arte Que Acontece - ECPv6.15.20//NONSGML v1.0//EN
CALSCALE:GREGORIAN
METHOD:PUBLISH
X-WR-CALNAME:Arte Que Acontece
X-ORIGINAL-URL:https://artequeacontece.com.br
X-WR-CALDESC:Eventos para Arte Que Acontece
REFRESH-INTERVAL;VALUE=DURATION:PT1H
X-Robots-Tag:noindex
X-PUBLISHED-TTL:PT1H
BEGIN:VTIMEZONE
TZID:America/Sao_Paulo
BEGIN:STANDARD
TZOFFSETFROM:-0300
TZOFFSETTO:-0300
TZNAME:-03
DTSTART:20240101T000000
END:STANDARD
END:VTIMEZONE
BEGIN:VEVENT
DTSTART;TZID=America/Sao_Paulo:20250123T100000
DTEND;TZID=America/Sao_Paulo:20250322T180000
DTSTAMP:20260422T072553
CREATED:20250124T183737Z
LAST-MODIFIED:20250124T183737Z
UID:60630-1737626400-1742666400@artequeacontece.com.br
SUMMARY:"Cy Twombly" na Gagosian
DESCRIPTION:Vista da da instalação com Cy Twombly\, “Untitled”\, 1971 © Cy Twombly Foundation. Foto: Maris Hutchinson\n\n\n\n\nA Gagosian apresenta uma exposição de pinturas\, uma escultura e obras em papel de Cy Twombly. A apresentação será inaugurada em 23 de janeiro de 2025\, ocupando dois andares das galerias na 980 Madison Avenue. Organizada em colaboração com a Cy Twombly Foundation\, a exposição inclui importantes séries de trabalhos realizados entre 1968 e 1990\, incluindo peças nunca antes exibidas e empréstimos da família Twombly. \nA instalação no sexto andar apresenta uma série de pinturas que Twombly produziu entre 1968 e 1971\, representando uma abordagem mais austera em comparação com as telas da década anterior. Criadas durante a era do Minimalismo e da arte conceitual\, essas telas frequentemente são interpretadas como “quadros-negros” — sua fluidez gestual rompe as distinções entre pintura\, desenho e escrita. \nUma obra de 1968 apresenta loops aninhados que se espalham pela tela em cascata. Inscrições e números conferem à obra uma qualidade diagramática\, enquanto sua composição dinâmica remete aos desenhos do Dilúvio de Leonardo da Vinci (c. 1517–18). Uma pintura sem título de nove painéis\, datada de 1971\, forma uma sequência conectada por diagonais e curvas acumuladas.
URL:https://artequeacontece.com.br/evento/cy-twombly-na-gagosian/
LOCATION:Gagosian Madison Avenue\, 980 Madison Avenue\, Nova York\, Nova York
CATEGORIES:Nova York
ATTACH;FMTTYPE=image/jpeg:https://artequeacontece.com.br/wp-content/uploads/2025/01/7k0SArWuHI7_2400x2400.jpg
END:VEVENT
END:VCALENDAR