BEGIN:VCALENDAR
VERSION:2.0
PRODID:-//Arte Que Acontece - ECPv6.15.20//NONSGML v1.0//EN
CALSCALE:GREGORIAN
METHOD:PUBLISH
X-WR-CALNAME:Arte Que Acontece
X-ORIGINAL-URL:https://artequeacontece.com.br
X-WR-CALDESC:Eventos para Arte Que Acontece
REFRESH-INTERVAL;VALUE=DURATION:PT1H
X-Robots-Tag:noindex
X-PUBLISHED-TTL:PT1H
BEGIN:VTIMEZONE
TZID:America/Sao_Paulo
BEGIN:STANDARD
TZOFFSETFROM:-0300
TZOFFSETTO:-0300
TZNAME:-03
DTSTART:20230101T000000
END:STANDARD
END:VTIMEZONE
BEGIN:VEVENT
DTSTART;TZID=America/Sao_Paulo:20240125T100000
DTEND;TZID=America/Sao_Paulo:20240414T190000
DTSTAMP:20260422T090856
CREATED:20240306T145853Z
LAST-MODIFIED:20240306T145856Z
UID:46725-1706176800-1713121200@artequeacontece.com.br
SUMMARY:"CUTE" na Somerset House
DESCRIPTION:Instalação da Hello Kitty na exposição CUTE na Somerset House. Créditos: David Parry PA da Somerset House.\n\n\n\nDos emojis aos memes da internet\, dos videogames aos brinquedos de pelúcia\, da comida ao design de robôs adoráveis\, a fofura tomou conta do nosso mundo. Mas como algo tão encantador e aparentemente inofensivo – animais com olhos brilhantes\, bebês bochechudos\, flores\, corações\, estrelas\, doces e outros motivos românticos semelhantes – ganhou tanta tração? \n\n\n\nCUTE reúne obras de arte contemporâneas\, incluindo novas encomendas de artistas\, e fenômenos culturais como música\, moda\, brinquedos\, videogames e mídias sociais\, nesta nova exposição que examina a adoção mundial da cultura fofa e como ela se tornou uma medida influente de nossos tempos. Buscará desvendar a carga emotiva da fofura\, revelando seu poder e potencial extraordinários e complexos. \n\n\n\nOs artistas contribuintes incluem Mark Leckey\, Sean-Kierre Lyons\, AYA TAKANO\, Mike Kelley\, Karen Kilimnik\, Nayland Blake\, Cosima von Bonin\, Hannah Diamond\, Ed Fornieles\, Juliana Huxtable\, Rachel Maclean\, Julien Ceccaldi\, Paige K. B.\, Isaac Lythgoe\, Alake Shilling\, Wong Ping\, Liv Preston\, CFGNY\, Ram Han\, Maggie Lee\, Bunny Rogers\, Flannery Silva\, Andy Holden\, além dos artistas do Somerset House Studios Chris Zhongtian Yuan\, Sin Wai Kin e Sian Fan.
URL:https://artequeacontece.com.br/evento/cute-na-somerset-house/
LOCATION:Somerset House\, Strand\, London WC2R 1LA\, Londres\, Reino unido
CATEGORIES:Londres
ATTACH;FMTTYPE=image/jpeg:https://artequeacontece.com.br/wp-content/uploads/2024/03/Hello-Kitty-installation-in-the-CUTE-exhibition-at-Somerset-House.-Credit-David-Parry-PA-for-Somerset-House-1024x683-1.jpg
END:VEVENT
END:VCALENDAR