BEGIN:VCALENDAR
VERSION:2.0
PRODID:-//Arte Que Acontece - ECPv6.15.20//NONSGML v1.0//EN
CALSCALE:GREGORIAN
METHOD:PUBLISH
X-WR-CALNAME:Arte Que Acontece
X-ORIGINAL-URL:https://artequeacontece.com.br
X-WR-CALDESC:Eventos para Arte Que Acontece
REFRESH-INTERVAL;VALUE=DURATION:PT1H
X-Robots-Tag:noindex
X-PUBLISHED-TTL:PT1H
BEGIN:VTIMEZONE
TZID:America/Sao_Paulo
BEGIN:STANDARD
TZOFFSETFROM:-0300
TZOFFSETTO:-0300
TZNAME:-03
DTSTART:20240101T000000
END:STANDARD
END:VTIMEZONE
BEGIN:VEVENT
DTSTART;TZID=America/Sao_Paulo:20251107T110000
DTEND;TZID=America/Sao_Paulo:20251218T190000
DTSTAMP:20260422T053553
CREATED:20251105T134307Z
LAST-MODIFIED:20251105T134132Z
UID:65933-1762513200-1766084400@artequeacontece.com.br
SUMMARY:“Criaturas” de Caio Marcolini na Cassia Bomeny Galeria
DESCRIPTION:Caio Marcolini\, detalhe “HYB267”\, série Híbridos\, 2025. Divulgação.\nCom curadoria de Marcos Lontra\, a mostra reúne dez obras inéditas de três séries distintas — “Sistemas”\, “Híbridos” e “Colônia” (todas de 2025) — e apresenta o recente desdobramento da pesquisa do artista\, que há mais de uma década transforma fios metálicos em estruturas tridimensionais de sutileza formal e complexidade técnica. \nEntre o artesanal e o escultórico\, o trabalho de Marcolini nasce de um gesto repetitivo e meditativo — um tecer contínuo que se aproxima tanto da ourivesaria quanto da arte têxtil. As peças\, construídas a partir de fios de latão tramados e trançados manualmente\, evocam sistemas vivos\, rizomas e organismos em constante mutação. “Os fios metálicos desenham linhas no espaço e formam criaturas que parecem respirar diante de nós”\, observa o curador Marcos Lontra\, para quem a poética do artista está alicerçada em “equilíbrio\, tensão e sensualidade”\, atributos que unem rigor técnico e delicadeza. \nA investigação de Marcolini se manifesta nas três séries apresentadas\, em que ele aprofunda o diálogo entre forma e matéria\, criando esculturas que parecem crescer organicamente\, como se obedecessem a uma lógica interna. São obras que se fecham sobre si mesmas\, formando circuitos autônomos\, ou que se expandem em “colônias” — conjuntos que podem se agrupar ou existir de modo independente. Cada peça carrega o traço do tempo e do corpo em um processo que o artista descreve como “um fazer puro\, intuitivo e contínuo”. \n“Meu trabalho é um híbrido entre a trama do crochê e do tricô\, mas feito em metal. É como se cada célula pudesse se multiplicar em novas formas. Tudo é manual\, cada fio é tecido à mão\, e o trabalho vai se transformando no próprio ato de fazê-lo”\, afirma o artista.
URL:https://artequeacontece.com.br/evento/criaturas-de-caio-marcolini-na-cassia-bomeny-galeria/
LOCATION:Cassia Bomeny Galeria\, Rua Garcia d'Avila\, 196 - Ipanema\, Rio de Janeiro\, RJ\, Brasil
CATEGORIES:Rio de Janeiro
ATTACH;FMTTYPE=image/jpeg:https://artequeacontece.com.br/wp-content/uploads/2025/10/Caio-Marcolini_-HYB267-serie-hibridos-2025_Foto_-Julio-Ricco.jpg
END:VEVENT
END:VCALENDAR