BEGIN:VCALENDAR
VERSION:2.0
PRODID:-//Arte Que Acontece - ECPv6.15.20//NONSGML v1.0//EN
CALSCALE:GREGORIAN
METHOD:PUBLISH
X-WR-CALNAME:Arte Que Acontece
X-ORIGINAL-URL:https://artequeacontece.com.br
X-WR-CALDESC:Eventos para Arte Que Acontece
REFRESH-INTERVAL;VALUE=DURATION:PT1H
X-Robots-Tag:noindex
X-PUBLISHED-TTL:PT1H
BEGIN:VTIMEZONE
TZID:America/Sao_Paulo
BEGIN:STANDARD
TZOFFSETFROM:-0300
TZOFFSETTO:-0300
TZNAME:-03
DTSTART:20230101T000000
END:STANDARD
END:VTIMEZONE
BEGIN:VEVENT
DTSTART;TZID=America/Sao_Paulo:20240308T120000
DTEND;TZID=America/Sao_Paulo:20240922T180000
DTSTAMP:20260422T072429
CREATED:20240308T134011Z
LAST-MODIFIED:20240308T134015Z
UID:47138-1709899200-1727028000@artequeacontece.com.br
SUMMARY:"Crafting Modernity: Design in Latin America\, 1940–1980" no MoMA
DESCRIPTION:Roberto Burle Marx\, Parque Ibirapuera\, Jardins Quadricentenários\, projeto\, São Paulo\, Brasil (Plano\, detalhe cinco)\, 1953. The Museum of Modern Art\, Nova York. Fundo Interamericano. © 2024 Burle Marx & Cia. Ltda.\n\n\n\n“Há design em tudo”\, escreveu Clara Porset\, a inovadora designer cubano-mexicana. Ela acreditava que a arte e a indústria poderiam se inspirar mutuamente\, forjando um caminho alternativo para o design moderno. Nem todos os colegas de Porset concordavam com sua convicção. Esta exposição apresenta essas visões às vezes conflitantes da modernidade propostas por designers de ambientes domésticos na Argentina\, Brasil\, Chile\, Colômbia\, México e Venezuela entre 1940 e 1980. Para alguns\, o design era uma evolução das tradições locais e indígenas\, levando a uma abordagem que combinava técnicas artesanais centenárias com métodos baseados em máquinas. Para outros\, o design respondia às condições de mercado e aos gostos locais\, e era baseado em tecnologias disponíveis e processos industriais. Nesta exposição\, objetos\, incluindo móveis\, eletrodomésticos\, cartazes\, tecidos e cerâmicas\, bem como uma seleção de fotografias e pinturas\, explorarão essas tensões. \n\n\n\nO lar tornou-se um local de experimentação para a vida moderna durante um período marcado por mudanças políticas\, econômicas e sociais dramáticas\, que tiveram amplas repercussões para a cultura visual latino-americana. Por quase meio século\, o design do ambiente doméstico incorporou ideias de identidade nacional\, modelos de produção e modos de vida modernos. O lar também ofereceu oportunidades para um diálogo entre arte\, arquitetura e design. Destaques da exposição incluem a cadeira Butaque de Clara Porset; a cadeira Bowl de Lina Bo Bardi; a cadeira B.K.F. de Antonio Bonet\, Juan Kurchan e Jorge Ferrari Hardoy; e o mobiliário de lounge Malitte de Roberto Matta.
URL:https://artequeacontece.com.br/evento/crafting-modernity-design-in-latin-america-1940-1980-no-moma/
LOCATION:MoMA\, 11 W 53rd St Manhattan\, Nova York\, Nova York\, Estados Unidos
CATEGORIES:Nova York
ATTACH;FMTTYPE=image/jpeg:https://artequeacontece.com.br/wp-content/uploads/2024/03/Burle-Marx-243_1954_CCCR-Press-Site.jpg
END:VEVENT
END:VCALENDAR