BEGIN:VCALENDAR
VERSION:2.0
PRODID:-//Arte Que Acontece - ECPv6.15.20//NONSGML v1.0//EN
CALSCALE:GREGORIAN
METHOD:PUBLISH
X-WR-CALNAME:Arte Que Acontece
X-ORIGINAL-URL:https://artequeacontece.com.br
X-WR-CALDESC:Eventos para Arte Que Acontece
REFRESH-INTERVAL;VALUE=DURATION:PT1H
X-Robots-Tag:noindex
X-PUBLISHED-TTL:PT1H
BEGIN:VTIMEZONE
TZID:America/Sao_Paulo
BEGIN:STANDARD
TZOFFSETFROM:-0300
TZOFFSETTO:-0300
TZNAME:-03
DTSTART:20240101T000000
END:STANDARD
END:VTIMEZONE
BEGIN:VEVENT
DTSTART;TZID=America/Sao_Paulo:20251022T100000
DTEND;TZID=America/Sao_Paulo:20271122T190000
DTSTAMP:20260422T053241
CREATED:20251021T145123Z
LAST-MODIFIED:20251021T145123Z
UID:65763-1761127200-1826910000@artequeacontece.com.br
SUMMARY:"Costurar os sentidos" na Anita Schwartz Galeria de Arte
DESCRIPTION:Arthur Chaves. “Sem título”\, 2024. Divulgação.\nBordado\, tecido\, pintura\, colagem e poesia se entrelaçam em Costurar Sentidos\, exposição coletiva que será inaugurada no dia 22 de outubro de 2025\, às 19h\, no 2º piso da Anita Schwartz Galeria de Arte\, sob a curadoria de Cecília Fortes. A mostra reúne obras têxteis e derivações da costura como eixo central de criação\, explorando o gesto de costurar como metáfora de identidade\, memória e afeto. \n“São trabalhos permeados por motivos relacionados à construção e à afirmação de identidade\, ao resgate de memórias afetivas e à ressignificação de sentidos. Falam de questões sociais e temas sensíveis aos autores\, ao mesmo tempo em que expressam as suas origens e o caminho percorrido ao longo da jornada pessoal e artística”\, afirma Cecília Fortes. \nParticipam da exposição Arthur Chaves\, Dani Cavalier\, Duda Moraes\, Jeane Terra\, Renato Bezerra de Mello\, Rosana Palazyan e Yolanda Freyre. A seleção\, inicialmente orientada pela técnica\, acabou revelando pontos de convergência poética entre as obras\, que dialogam com o universo da costura e suas ressonâncias simbólicas. \n  \n  \n  \n  \n  \n  \n  \n  \n 
URL:https://artequeacontece.com.br/evento/costurar-os-sentidos-na-anita-schwartz/
LOCATION:Anita Schwartz Galeria de Arte\, R. José Roberto Macedo Soares\, 30\, Rido de Janeiro\, RJ\, Brasil
CATEGORIES:Rio de Janeiro
ATTACH;FMTTYPE=image/jpeg:https://artequeacontece.com.br/wp-content/uploads/2025/10/Arthur-Chaves.jpg
END:VEVENT
END:VCALENDAR