BEGIN:VCALENDAR
VERSION:2.0
PRODID:-//Arte Que Acontece - ECPv6.15.20//NONSGML v1.0//EN
CALSCALE:GREGORIAN
METHOD:PUBLISH
X-WR-CALNAME:Arte Que Acontece
X-ORIGINAL-URL:https://artequeacontece.com.br
X-WR-CALDESC:Eventos para Arte Que Acontece
REFRESH-INTERVAL;VALUE=DURATION:PT1H
X-Robots-Tag:noindex
X-PUBLISHED-TTL:PT1H
BEGIN:VTIMEZONE
TZID:America/Sao_Paulo
BEGIN:STANDARD
TZOFFSETFROM:-0300
TZOFFSETTO:-0300
TZNAME:-03
DTSTART:20240101T000000
END:STANDARD
END:VTIMEZONE
BEGIN:VEVENT
DTSTART;TZID=America/Sao_Paulo:20250206T100000
DTEND;TZID=America/Sao_Paulo:20250315T190000
DTSTAMP:20260419T233017
CREATED:20250202T175248Z
LAST-MODIFIED:20250202T180029Z
UID:60736-1738836000-1742065200@artequeacontece.com.br
SUMMARY:“Cosmos – Outras Cartografias” na Nara Roesler
DESCRIPTION:Jaime Lauriano\, “Meu sangue latino\, minh’alma cativa #4”\, 2024.®Flavio Freire\n\n\n\n\nA Nara Roesler São Paulo apresenta\, em 6 de fevereiro de 2025\, às 18h\, a exposição coletiva “Cosmos – Outras Cartografias”\, com curadoria da artista Laura Vinci em parceria com o núcleo curatorial Nara Roesler. A mostra reúne 32 trabalhos de 20 artistas que embora possuam poéticas distintas entre si têm como ponto de convergência a questão da cartografia\, campo do conhecimento que produz representações gráficas de um determinado espaço\, e que historicamente dialoga profundamente com as artes\, a religião e diversos sistemas de crenças e mitologias. Olhando para os mapas como ideias de representação de mundo\, mas também como ferramentas amplamente utilizadas para controle e exploração de territórios colonizados\, a mostra busca reunir trabalhos que repensam e subvertem essasrepresentações. \nDentre os nomes de peso histórico da mostra\, estão trabalhos de Nelson Leirner\, Paulo Bruscky e Anna Bella Geiger\, que buscam trazer a questão da representação gráfica para um viés poético\, tanto discutindo questões nacionais quanto se debruçando sobre uma geopolítica mais ampla. A materialidade da cartografia aparece nos trabalhos de André Vargas\, Marina Camargo e Carlos Bunga\, que constroem (ou percebem) mapas e desenhos através de suportes pouco usuais\, como chinelos de borracha\, recorte em borracha e tinta látex sobre tapete\, respectivamente. Temas de ordem política\, trazendo questões como disputas de narrativa e colonialismo estão presentes nos trabalhos de Alfredo Jaar\, Jonathas de Andrade\, Jaime Lauriano e Talles Lopes. \nLaura Vinci afirma que o foco da exposição decorre “das várias crises que o nosso planeta enfrenta atualmente – sejam elas políticas\, migratórias ou ambientais – e seu objetivo é inspirar a reflexão sobre diferentes abordagens artísticas para essas questões urgentes. “Para os artistas\, ‘pensar sobre o mundo’ não significa necessariamente filosofar\, mas criar imagens\, objetos\, representações e intervenções que se envolvam com essas ideias globais. Alguns trabalhos podem ter uma perspectiva mais política ou geopolítica\, enquanto outros podem enfatizar preocupações ambientais. Juntas\, as obras incentivarão um diálogo mais amplo sobre o mundo em que vivemos”\, destaca.
URL:https://artequeacontece.com.br/evento/cosmos-outras-cartografias-na-nara-roesler-2/
LOCATION:Nara Roesler\, Av. Europa\, 655 - Jardim Europa\, São Paulo\, SP\, Brasil
CATEGORIES:São Paulo
ATTACH;FMTTYPE=image/jpeg:https://artequeacontece.com.br/wp-content/uploads/2025/02/55193_Jaime_Lauriano_Meu_sangue_latino_minh_alma_cativa__4_2024__-®FlavioFreire_high_1-1.jpg
END:VEVENT
END:VCALENDAR