BEGIN:VCALENDAR
VERSION:2.0
PRODID:-//Arte Que Acontece - ECPv6.15.20//NONSGML v1.0//EN
CALSCALE:GREGORIAN
METHOD:PUBLISH
X-WR-CALNAME:Arte Que Acontece
X-ORIGINAL-URL:https://artequeacontece.com.br
X-WR-CALDESC:Eventos para Arte Que Acontece
REFRESH-INTERVAL;VALUE=DURATION:PT1H
X-Robots-Tag:noindex
X-PUBLISHED-TTL:PT1H
BEGIN:VTIMEZONE
TZID:America/Sao_Paulo
BEGIN:STANDARD
TZOFFSETFROM:-0300
TZOFFSETTO:-0300
TZNAME:-03
DTSTART:20250101T000000
END:STANDARD
END:VTIMEZONE
BEGIN:VEVENT
DTSTART;VALUE=DATE:20260407
DTEND;VALUE=DATE:20260604
DTSTAMP:20260423T055856
CREATED:20260408T232150Z
LAST-MODIFIED:20260408T232150Z
UID:70879-1775520000-1780531199@artequeacontece.com.br
SUMMARY:"Corpo escultórico" de José Resende na Superfície
DESCRIPTION:Superfície apresenta Corpo escultórico\, individual panorâmica de José Resende com cerca de 18 trabalhos\, incluindo uma instalação inédita concebida especialmente para a galeria. Com texto crítico de Luiz Armando Bagolin\, a mostra articula esculturas de parede e instalações no espaço\, reunindo trabalhos históricos e recentes. \nUm dos fundadores do Grupo Rex em 1966\, José Resende é figura central da arte brasileira. Em diálogo com a Arte Povera e o pós-minimalismo\, sua prática investiga as propriedades físicas dos materiais — tubos de cobre\, chapas metálicas\, cabos de aço\, vidro — organizados em estruturas que tensionam equilíbrio\, peso e permanência.
URL:https://artequeacontece.com.br/evento/corpo-escultorico-de-jose-resende-na-superficie/
LOCATION:Galeria Superfície | Oscar Freire\, Rua Oscar Freire\, 240 - Jardim Paulista\, São Paulo\, SP
CATEGORIES:São Paulo
ATTACH;FMTTYPE=image/png:https://artequeacontece.com.br/wp-content/uploads/2026/04/260325-Superficie-ph-Ana-Pigosso-008-lw.png
END:VEVENT
END:VCALENDAR