BEGIN:VCALENDAR
VERSION:2.0
PRODID:-//Arte Que Acontece - ECPv6.15.20//NONSGML v1.0//EN
CALSCALE:GREGORIAN
METHOD:PUBLISH
X-WR-CALNAME:Arte Que Acontece
X-ORIGINAL-URL:https://artequeacontece.com.br
X-WR-CALDESC:Eventos para Arte Que Acontece
REFRESH-INTERVAL;VALUE=DURATION:PT1H
X-Robots-Tag:noindex
X-PUBLISHED-TTL:PT1H
BEGIN:VTIMEZONE
TZID:America/Sao_Paulo
BEGIN:STANDARD
TZOFFSETFROM:-0300
TZOFFSETTO:-0300
TZNAME:-03
DTSTART:20220101T000000
END:STANDARD
END:VTIMEZONE
BEGIN:VEVENT
DTSTART;TZID=America/Sao_Paulo:20231215T120000
DTEND;TZID=America/Sao_Paulo:20240324T180000
DTSTAMP:20260422T085923
CREATED:20231214T160227Z
LAST-MODIFIED:20231214T160231Z
UID:45279-1702641600-1711303200@artequeacontece.com.br
SUMMARY:"Conversas entre coleções" na Casa Roberto Marinho
DESCRIPTION:A Casa Roberto Marinho anuncia a mostra Conversas entre coleções\, que será inaugurada no dia 15 de dezembro de 2023\, a partir das 12h. Por sugestão dos irmãos Marinho\, o diretor do instituto\, Lauro Cavalcanti\, convidou seis dos mais importantes colecionadores do país para curarem os espaços expositivos do casarão no Cosme Velho\, Zona Sul do Rio\, estabelecendo um diálogo artístico entre o acervo da Casa e peças de suas coleções particulares. \n\n\n\n“Com enorme alegria recebemos\, deste dezembro de 2023 a março de 2024\, 256 obras de 127 artistas\, que pertencem a colecionadores fundamentais para a criação e memória da arte brasileira atual”\, celebram os patronos da Casa. A partir da imersão no conjunto reunido pelo jornalista Roberto Marinho\, com cerca de 1.400 peças em diferentes suportes\, Andrea e José Olympio Pereira\, Luciana e Luis Antonio de Almeida Braga\, Mara e Marcio Fainziliber\, Marcia e Luiz Chrysostomo de Oliveira Filho\, Paulo Vieira\, Mônica e George Kornis tiveram autonomia curatorial para explorar as possibilidades visuais desse encontro e organizar suas salas. O resultado é uma espécie de ponto de convergência intergeracional do colecionismo brasileiro. \n\n\n\nEntre muitos trabalhos ainda inéditos para o público\, as seleções incluem modernistas e contemporâneos de diversas nacionalidades\, como Abdias do Nascimento (1914-2011)\, Adriana Varejão\, Ai Weiwei\, Alberto Guignard (1896-1962)\, Anna Maria Maiolino\, Beatriz Milhazes\, Candido Portinari (1903-1962)\, Di Cavalcanti (1897-1976)\, Djanira (1914-1979)\, Ernesto Neto\, Iberê Camargo (1914-1994)\, Iole de Freitas\, Ismael Nery (1900-1934)\, José Pancetti (1902-1958)\, Lasar Segall (1889-1957)\, Leonilson (1957-1993)\, Lucia Laguna\, Luiz Zerbini\, Maria Helena Vieira da Silva (1908-1992)\, Mira Schendel (1919-1988)\, Mona Hatoum\, Pierre Soulages (1919-2022)\, Roberto Magalhães\, Rubens Gerchman (1942-2008)\, Sonia Gomes\, Tarsila do Amaral (1886-1973)\, Vik Muniz e outros. \n\n\n\n“Ao reunir centenas de peças de diferentes meios e correntes artísticas\, a nova exposição é uma rara oportunidade para o público conferir produções de tempos e geografias díspares. Com ela\, encerramos com chave de ouro um ano muito profícuo para a Casa”\, afirma Lauro Cavalcanti\, que assina a coordenação geral do projeto.
URL:https://artequeacontece.com.br/evento/conversas-entre-colecoes-na-casa-roberto-marinho/
LOCATION:Casa Roberto Marinho\, R. Cosme Velho\, 1105\, Rio de Janeiro\, RJ\, Brasil
CATEGORIES:Rio de Janeiro
ATTACH;FMTTYPE=image/jpeg:https://artequeacontece.com.br/wp-content/uploads/2023/12/RJ-Maria-Martins.-Glebe-ailes-1944.-Bronze.-1165-x-1155-x-47-cm.-Colecao-Roberto-Marinho-Instituto-Casa-Roberto-Marinho.-foto-Cadu-Pilotto-1.jpg
END:VEVENT
END:VCALENDAR