BEGIN:VCALENDAR
VERSION:2.0
PRODID:-//Arte Que Acontece - ECPv6.15.20//NONSGML v1.0//EN
CALSCALE:GREGORIAN
METHOD:PUBLISH
X-WR-CALNAME:Arte Que Acontece
X-ORIGINAL-URL:https://artequeacontece.com.br
X-WR-CALDESC:Eventos para Arte Que Acontece
REFRESH-INTERVAL;VALUE=DURATION:PT1H
X-Robots-Tag:noindex
X-PUBLISHED-TTL:PT1H
BEGIN:VTIMEZONE
TZID:America/Sao_Paulo
BEGIN:STANDARD
TZOFFSETFROM:-0300
TZOFFSETTO:-0300
TZNAME:-03
DTSTART:20240101T000000
END:STANDARD
END:VTIMEZONE
BEGIN:VEVENT
DTSTART;TZID=America/Sao_Paulo:20250719T100000
DTEND;TZID=America/Sao_Paulo:20250821T190000
DTSTAMP:20260419T211323
CREATED:20250718T163120Z
LAST-MODIFIED:20250804T181657Z
UID:63781-1752919200-1755802800@artequeacontece.com.br
SUMMARY:"Construindo Formas" na Aura
DESCRIPTION:Érica Magalhães\, “Sem título (lavadeira)”\, 2023. Foto: Flávio Freire\nA Aura celebra uma década de atuação no circuito das artes visuais com a abertura da exposição “Construindo Formas”\, no dia 19 de julho\, às 15h. A mostra\, que reúne obras dos quinze artistas atualmente representados pela galeria\, ocupa os dois andares do espaço expositivo e apresenta um recorte plural da produção contemporânea brasileira\, com vozes que vêm das cinco regiões do país\, além de um artista argentino e uma artista portuguesa\, refletindo a abrangência geográfica e estética que marca o DNA da Aura desde a sua abertura. \nAcompanhada do texto curatorial de Thierry Freitas\, a exposição foi concebida em dois atos. No térreo\, as intersecções entre o construído e o natural são apresentadas por meio dos trabalhos dos artistas Arivanio\, Bruno Weilemann Belo\, Cecília Costa\, Érica Magalhães\, Fernanda Valadares\, Leandro Junior\, Luiza Gottschalk\, Marcela Crosman e Rommulo Vieira Conceição. Os trabalhos\, múltiplos em linguagens\, convergem ao tangenciar temas como arquitetura\, espaço e meio ambiente. Já no andar superior\, a curadoria reúne obras de Uýra\, Fernanda Pacca\, Helô Sanvoy\, Leonardo Damonte\, Marcelo Gandhi e Renan Teles que tratam de metamorfoses atravessadas por uma visualidade psicodélica e sintética. Nas palavras de Thierry: “há um trânsito entre poéticas de transformação e alteridade (…). São trabalhos que não imaginam um mundo pós-humano como fantasia distópica\, mas como abertura para a convivência com outras formas de existência\, como a animal\, vegetal e tecnológica.” \n“Habitar um espaço\, seja ele físico\, simbólico ou sensível\, é também um gesto em transformação. Se o passado nos ofereceu os alicerces\, é no presente que escolhemos como continuar construindo. Talvez a melhor forma de responder à pergunta “para onde vamos?” seja justamente essa: seguindo juntos\, atentos ao que pulsa\, abertos ao que ainda não tem nome.” – Thierry Freitas \nA abertura da exposição contará com transporte gratuito por meio do projeto Arte Circuito\, que neste dia circulará entre diversos espaços de arte da região da Avenida Paulista\, facilitando o acesso do público à programação.
URL:https://artequeacontece.com.br/evento/construindo-formas-na-aura/
LOCATION:Aura Galeria\, Rua da Consolação\, 2767 - Jardins\, São Paulo\, SP\, Brasil
CATEGORIES:São Paulo
ATTACH;FMTTYPE=image/jpeg:https://artequeacontece.com.br/wp-content/uploads/2025/07/Erica-Magalhaes-Sem-titulo-lavadeira-2023.-Foto_-Flavio-Freire_2-1.jpg
END:VEVENT
END:VCALENDAR