BEGIN:VCALENDAR
VERSION:2.0
PRODID:-//Arte Que Acontece - ECPv6.15.20//NONSGML v1.0//EN
CALSCALE:GREGORIAN
METHOD:PUBLISH
X-WR-CALNAME:Arte Que Acontece
X-ORIGINAL-URL:https://artequeacontece.com.br
X-WR-CALDESC:Eventos para Arte Que Acontece
REFRESH-INTERVAL;VALUE=DURATION:PT1H
X-Robots-Tag:noindex
X-PUBLISHED-TTL:PT1H
BEGIN:VTIMEZONE
TZID:America/Sao_Paulo
BEGIN:STANDARD
TZOFFSETFROM:-0300
TZOFFSETTO:-0300
TZNAME:-03
DTSTART:20240101T000000
END:STANDARD
END:VTIMEZONE
BEGIN:VEVENT
DTSTART;TZID=America/Sao_Paulo:20250215T100000
DTEND;TZID=America/Sao_Paulo:20250308T190000
DTSTAMP:20260419T103728
CREATED:20250213T202049Z
LAST-MODIFIED:20250213T202049Z
UID:61062-1739613600-1741460400@artequeacontece.com.br
SUMMARY:"cons.tru.ção | definição em aberto" na Galeria Contempo
DESCRIPTION:Luiz Dolino\, “Cenário de baile”\, 2024 – Divulgação\nA agenda de exposições de 2025 começou aquecida na Galeria Contempo. Após realizar individual da artista Ana Durães\, será inaugurada no dia 15 de fevereiro a primeira coletiva do ano na casa da Gabriel Monteiro. “cons.tru.ção | definição em aberto” reunirá 13 artistas representados pelas sócias Márcia e Monica Felmanas: Aldir Mendes de Souza\, Beto Fame\, Greta Coutinho\, João di Souza\, Luiz Dolino\, Márcio Swk\, Marina Ryfer\, Natan Dias\, Pavel\, Renato Dib\, Rubens Ianelli\, Sérgio Guerini e Thiago Nevs. Através de trabalhos nos mais distintos suportes\, incluindo a pintura\, a escultura e a instalação\, cons.tru.ção aponta para o desenvolvimento recente de um grupo de artistas. Todos eles\, jovens ou mais consolidados\, comprovam que continuar produzindo é um exercício de reinvestir na construção de um sentido\, ainda que seja ele pessoal e afetivo. A exposição poderá ser visitada até 8 de março. \nA mostra coletiva traça um panorama da produção recente dos artistas da galeria. Tendo como disparador um trabalho de Aldir Mendes de Souza\, “cons.tru.ção” é um convite a repensar a noção de construção no contemporâneo. O trabalho de Aldir\, intitulado “A Cidade VI”\, de 1979\, é uma de suas incursões pela (até hoje irresolvida) querela entre cidade e campo. Entre as horizontais das plantações e as verticais assustadoras das metrópoles\, Aldir estabeleceu um léxico pessoal para tratar das resultantes visuais do progresso. Sem ser judiciosa\, sua pintura nos ajuda a posicionar melhor o problema que a exposição pretende conjecturar. Outro nome em destaque\, Natan Dias – indicado ao Prêmio Pipa em 2024 -\, é um artista que\, junto ao ferro e ao seu significado nas culturas afrobrasileiras\, repensa o construir. Em contraponto\, Dolino\, artista de carreira longeva\, recombina diariamente um léxico exíguo\, mas que parece ainda interminável. \n“Os trabalhos reunidos neste pequeno e representativo recorte\, com suas marcadas idiossincrasias\, não pretendem responder à questão. Na verdade\, nem desejam respondê-la. Cada um enfeixa por seu prisma o mundo e\, num exercício reflexivo\, reimagina o construir\, oferecendo a ele um novo direcionamento”.
URL:https://artequeacontece.com.br/evento/cons-tru-cao-definicao-em-aberto-na-galeria-contempo/
LOCATION:Galeria Contempo\, Al. Gabriel Monteiro da Silva\, 1644\, São Paulo\, SP\, Brasil
CATEGORIES:São Paulo
ATTACH;FMTTYPE=image/jpeg:https://artequeacontece.com.br/wp-content/uploads/2025/02/Luiz-Dolino__Cenario-de-baile-2024__Acrilica-s_-tela-110-x-110-cm-1.jpg
END:VEVENT
END:VCALENDAR