BEGIN:VCALENDAR
VERSION:2.0
PRODID:-//Arte Que Acontece - ECPv6.15.20//NONSGML v1.0//EN
CALSCALE:GREGORIAN
METHOD:PUBLISH
X-WR-CALNAME:Arte Que Acontece
X-ORIGINAL-URL:https://artequeacontece.com.br
X-WR-CALDESC:Eventos para Arte Que Acontece
REFRESH-INTERVAL;VALUE=DURATION:PT1H
X-Robots-Tag:noindex
X-PUBLISHED-TTL:PT1H
BEGIN:VTIMEZONE
TZID:America/Sao_Paulo
BEGIN:STANDARD
TZOFFSETFROM:-0300
TZOFFSETTO:-0300
TZNAME:-03
DTSTART:20230101T000000
END:STANDARD
END:VTIMEZONE
BEGIN:VEVENT
DTSTART;TZID=America/Sao_Paulo:20240203T140000
DTEND;TZID=America/Sao_Paulo:20240224T200000
DTSTAMP:20260419T123425
CREATED:20240205T221342Z
LAST-MODIFIED:20240208T185536Z
UID:46160-1706968800-1708804800@artequeacontece.com.br
SUMMARY:"cômodo" de Larissa Laban e Maíra Senise no espaço Caroço
DESCRIPTION:cômodo representa o encontro de duas exposições solo das artistas Larissa Laban e Maíra Senise\, ocupando os dois andares do CAROÇO\, com curadoria de cabinetbrain. \n\n\n\nExplorando além da pluralidade da palavra cômodo\, ambas artistas nesta exposição mergulham em seus próprios umwelts pessoais através de suas telas e dos personagens que elas criaram. Termo cunhado pelo biólogo Jakob von Uexküll em 1909\, umwelt refere-se ao mundo que descreve a experiência subjetiva de um organismo moldado por funções essenciais à sobrevivência. Essas funções criam padrões harmoniosos para a existência de cada organismo\, resultando em uma adaptação completa ao seu próprio universo. \n\n\n\nAqui o termo se desdobra em uma sinfonia visual de animais e objetos domésticos governados por sua própria lógica distinta\, permeando um universo desconhecido\, visto nos trabalhos inéditos apresentados por ambas artistas.
URL:https://artequeacontece.com.br/evento/comodo-de-larissa-laban-e-maira-senise-no-espaco-caroco/
LOCATION:Caroço\, R. Votupoca\, 71 - Vila Ipojuca\, São Paulo\, SP\, Brasil
CATEGORIES:São Paulo
ATTACH;FMTTYPE=image/jpeg:https://artequeacontece.com.br/wp-content/uploads/2024/02/installation-view_caroco.jpg
END:VEVENT
END:VCALENDAR