BEGIN:VCALENDAR
VERSION:2.0
PRODID:-//Arte Que Acontece - ECPv6.15.20//NONSGML v1.0//EN
CALSCALE:GREGORIAN
METHOD:PUBLISH
X-WR-CALNAME:Arte Que Acontece
X-ORIGINAL-URL:https://artequeacontece.com.br
X-WR-CALDESC:Eventos para Arte Que Acontece
REFRESH-INTERVAL;VALUE=DURATION:PT1H
X-Robots-Tag:noindex
X-PUBLISHED-TTL:PT1H
BEGIN:VTIMEZONE
TZID:America/Sao_Paulo
BEGIN:STANDARD
TZOFFSETFROM:-0300
TZOFFSETTO:-0300
TZNAME:-03
DTSTART:20230101T000000
END:STANDARD
END:VTIMEZONE
BEGIN:VEVENT
DTSTART;TZID=America/Sao_Paulo:20240228T110000
DTEND;TZID=America/Sao_Paulo:20240512T190000
DTSTAMP:20260419T084458
CREATED:20240306T193638Z
LAST-MODIFIED:20240306T193642Z
UID:47053-1709118000-1715540400@artequeacontece.com.br
SUMMARY:"Coming Soon" na Lafayette Anticipations
DESCRIPTION:Nina Beier\, Fleet\, 2024. Cortesia da artista\, Croy Nielsen\, Viena e Standard\, Oslo © Aurélie Mole\n\n\n\nPensar\, sonhar\, prever ou temer o futuro moldou nossa presença no mundo desde os seus primórdios. Em nosso contexto atual\, de profunda metamorfose e incerteza\, Coming Soon revisita essa relação que temos com o desconhecido. A exposição examina nossa relação e formas de estar em relação ao que está por vir\, que nos ilude e nos espera. Entre previsões\, oráculos\, sistemas de antecipação e capitulações\, a exposição mescla comissões para artistas contemporâneos com objetos históricos. \n\n\n\nRetomando a frase da artista Barbara Kruger\, “o futuro pertence àqueles que podem vê-lo”\, “Em Breve” aborda o que nossa concepção de futuro diz sobre os tempos presentes; como nossas esperanças\, nosso pessimismo\, nossos desejos e ansiedades se manifestam; como diferentes formas de ser e atitudes se traduzem. \n\n\n\nO futuro é um tempo-espaço em constante evolução\, no qual todos não conseguem habitar sob os mesmos termos e condições. Nos instigando a pensar urgentemente sobre o futuro através de diferentes entendimentos de convivência\, “Em Breve” concentra-se em possíveis caminhos de escrever\, imaginar\, criar e encarnar resultados coletivos. \n\n\n\nCuradora: Rebecca Lamarche-Vadel
URL:https://artequeacontece.com.br/evento/coming-soon-na-lafayette-anticipations/
LOCATION:Lafayette Anticipations\, 9\, rue du Plâtre\, Paris\, França
CATEGORIES:Paris
ATTACH;FMTTYPE=image/jpeg:https://artequeacontece.com.br/wp-content/uploads/2024/03/nina_beieir_la.jpeg
END:VEVENT
END:VCALENDAR