BEGIN:VCALENDAR
VERSION:2.0
PRODID:-//Arte Que Acontece - ECPv6.15.20//NONSGML v1.0//EN
CALSCALE:GREGORIAN
METHOD:PUBLISH
X-WR-CALNAME:Arte Que Acontece
X-ORIGINAL-URL:https://artequeacontece.com.br
X-WR-CALDESC:Eventos para Arte Que Acontece
REFRESH-INTERVAL;VALUE=DURATION:PT1H
X-Robots-Tag:noindex
X-PUBLISHED-TTL:PT1H
BEGIN:VTIMEZONE
TZID:America/Sao_Paulo
BEGIN:STANDARD
TZOFFSETFROM:-0300
TZOFFSETTO:-0300
TZNAME:-03
DTSTART:20240101T000000
END:STANDARD
END:VTIMEZONE
BEGIN:VEVENT
DTSTART;TZID=America/Sao_Paulo:20250509T100000
DTEND;TZID=America/Sao_Paulo:20250914T180000
DTSTAMP:20260419T085152
CREATED:20250512T223623Z
LAST-MODIFIED:20250512T223820Z
UID:62585-1746784800-1757872800@artequeacontece.com.br
SUMMARY:"Collection in Focus | The Reach of Faith Ringgold" no Guggenheim
DESCRIPTION:Faith Ringgold\, “Woman on a Bridge #1 of 5: Tar Beach”\, 1988. Solomon R. Guggenheim Museum\, Nova York. Doação de Mr. and Mrs. Gus and Judith Leiber\, 1988. © 2023 Faith Ringgold / Artists Rights Society (ARS)\, Nova York. Cortesia ACA Galleries\, Nova York\n\nO ChatGPT disse:\n\n\n\n\n\n\n\nExplore Woman on a Bridge #1 of 5: Tar Beach (1988)\, uma das obras mais importantes de Faith Ringgold\, artista\, escritora e ativista de renome. Este monumental quilt\, o primeiro de uma série de cinco\, narra a história de uma menina que sonha em voar a partir do telhado de seu prédio no Harlem\, celebrando sua liberdade e autonomia. \nA exposição investiga as influências artísticas de Ringgold e o impacto duradouro de sua obra sobre gerações posteriores de artistas. Ao lado de Tar Beach\, o público poderá ver obras da coleção do Guggenheim Nova York de modernistas europeus como Marc Chagall e Pablo Picasso\, que inspiraram Ringgold\, além de artistas contemporâneos norte-americanos como Tschabalala Self e Sanford Biggers\, cujos trabalhos refletem o legado da artista. \nThe Reach of Faith Ringgold é organizada por Naomi Beckwith\, diretora-adjunta e curadora-chefe Jennifer and David Stockman\, com o apoio de Saria AlMidani\, assistente da curadoria-chefe. Esta é a terceira exposição da série Collection in Focus.
URL:https://artequeacontece.com.br/evento/collection-in-focus-the-reach-of-faith-ringgold-no-guggenheim/
LOCATION:The Guggenheim Museum\, 1071 5th Ave\, Nova York\, Nova York\, Estados Unidos
CATEGORIES:Nova York
ATTACH;FMTTYPE=image/png:https://artequeacontece.com.br/wp-content/uploads/2025/05/88.3620_ph_web-1-1.png
END:VEVENT
END:VCALENDAR