BEGIN:VCALENDAR
VERSION:2.0
PRODID:-//Arte Que Acontece - ECPv6.15.20//NONSGML v1.0//EN
CALSCALE:GREGORIAN
METHOD:PUBLISH
X-WR-CALNAME:Arte Que Acontece
X-ORIGINAL-URL:https://artequeacontece.com.br
X-WR-CALDESC:Eventos para Arte Que Acontece
REFRESH-INTERVAL;VALUE=DURATION:PT1H
X-Robots-Tag:noindex
X-PUBLISHED-TTL:PT1H
BEGIN:VTIMEZONE
TZID:America/Sao_Paulo
BEGIN:STANDARD
TZOFFSETFROM:-0300
TZOFFSETTO:-0300
TZNAME:-03
DTSTART:20220101T000000
END:STANDARD
END:VTIMEZONE
BEGIN:VEVENT
DTSTART;TZID=America/Sao_Paulo:20230708T100000
DTEND;TZID=America/Sao_Paulo:20231022T190000
DTSTAMP:20260422T071241
CREATED:20230729T175111Z
LAST-MODIFIED:20230729T175121Z
UID:42883-1688810400-1698001200@artequeacontece.com.br
SUMMARY:"Clouds and Light: Impressionism in Holland" no Museum Barberini
DESCRIPTION:A pintura de paisagem teve origem na Holanda\, e o realismo dos mestres holandeses do século XVII estabeleceu um padrão por muito tempo. Com o desenvolvimento da pintura plein air na França\, artistas holandeses do século XIX encontraram nova inspiração. A exposição Clouds and Light: Impressionism in Holland [Nuvens e Luz: Impressionismo na Holanda] será exibida de 8 de julho a 22 de outubro de 2023\, mostrando como os artistas foram inspirados pelas influências francesas para criar sua própria forma holandesa de impressionismo. Os pintores da Escola de Haia capturaram os humores em mudança da natureza e a luz nos amplos céus nublados usando uma ampla gama de tons de cinza. A partir da década de 1880\, as influências impressionistas da França despertaram um interesse por paisagens urbanas e imagens da vida moderna\, seguidas pela explosão de cores na pintura do pontilhismo. Clouds and Light: Impressionism in Holland reúne cerca de cem obras de aproximadamente quarenta artistas\, incluindo Johan Barthold Jongkind\, Vincent van Gogh\, Jacoba van Heemskerck e Piet Mondrian. Entre os colaboradores estão o Rijksmuseum e o Stedelijk Museum em Amsterdã\, o Kunstmuseum Den Haag\, o Dordrechts Museum\, o Kröller Müller-Museum em Otterlo e o Singer Museum em Laren.
URL:https://artequeacontece.com.br/evento/clouds-and-light-impressionism-in-holland-no-museum-barberini/
LOCATION:Museum Barberini\, Humboldtstraße 5–6\, Alter Markt - Potsdam\, Potsdam\, Alemanha
CATEGORIES:Berlim
ATTACH;FMTTYPE=image/jpeg:https://artequeacontece.com.br/wp-content/uploads/2023/07/063_SL_Hart_Nibbrig_2-1-1.jpg
END:VEVENT
END:VCALENDAR