BEGIN:VCALENDAR
VERSION:2.0
PRODID:-//Arte Que Acontece - ECPv6.15.20//NONSGML v1.0//EN
CALSCALE:GREGORIAN
METHOD:PUBLISH
X-WR-CALNAME:Arte Que Acontece
X-ORIGINAL-URL:https://artequeacontece.com.br
X-WR-CALDESC:Eventos para Arte Que Acontece
REFRESH-INTERVAL;VALUE=DURATION:PT1H
X-Robots-Tag:noindex
X-PUBLISHED-TTL:PT1H
BEGIN:VTIMEZONE
TZID:America/Sao_Paulo
BEGIN:STANDARD
TZOFFSETFROM:-0300
TZOFFSETTO:-0300
TZNAME:-03
DTSTART:20230101T000000
END:STANDARD
END:VTIMEZONE
BEGIN:VEVENT
DTSTART;TZID=America/Sao_Paulo:20240215T103000
DTEND;TZID=America/Sao_Paulo:20240721T203000
DTSTAMP:20260422T053217
CREATED:20240216T170610Z
LAST-MODIFIED:20240216T170614Z
UID:46483-1707993000-1721593800@artequeacontece.com.br
SUMMARY:Chiara Camoni no Pirelli HangarBicocca
DESCRIPTION:Chiara Camoni\, Barricata #1\, 2016\, Vista da instalação no Pirelli HangarBicocca\, Milão\, 2024. Foto: Agostino Osio\n\n\n\nChiara Camoni (Piacenza\, 1974; vive e trabalha em Seravezza\, Itália) é uma das principais artistas italianas de sua geração. Sua prática abrange desde desenhos até estampas vegetais\, de vídeos a esculturas\, com um foco particular em cerâmica. Seu trabalho é caracterizado pelo uso de objetos pertencentes ao mundo doméstico ou materiais orgânicos que a artista integra em sua produção. Ervas\, frutas e flores\, assim como vários tipos de argila e cinzas\, determinam os distintos tons naturais de suas obras\, e evocam a terra e a vegetação que a artista coleta e incorpora em suas esculturas. As obras são então manipuladas e reagrupadas por Chiara Camoni por meio de gestos rituais com fortes conexões com os mundos ancestrais e arcaicos\, com o objetivo de explorar a relação entre artesanato e a esfera espiritual. A dimensão coletiva e compartilhada também é relevante para sua prática\, já que a artista frequentemente colabora com amigos e parentes ou organiza oficinas e seminários para realizar seus projetos. \n\n\n\nA exposição no Pirelli HangarBicocca reúne o maior conjunto de obras já apresentado por Chiara Camoni e\, juntamente com uma série de novas produções\, dá vida a uma arquitetura de coletividade e memória\, cujas formas são inspiradas nos jardins italianos do final do Renascimento e nos antigos anfiteatros. O design simétrico e radial da planta cria corredores e salas\, caminhos e ambientes que dividem o espaço em áreas onde os visitantes podem permanecer ou conversar. Essa grande instalação abriga inúmeras outras obras da artista\, incluindo uma grande seleção de esculturas de terracota policromada e esmaltada\, como as figuras antropomórficas da série Sisters (2017-23) e os Butterfly Vases (2020-22)\, uma reinterpretação dos jarros canópicos egípcios. Ao lado de ilhas esculturais\, como os ladrilhos de cerâmica Pavi­mento (For Clarice) (2021) e as cortinas feitas de estampas vegetais de Untitled (a Tent) (2019)\, os visitantes encontrarão novas obras figurativas em ônix\, pedra leccese e alumínio que se baseiam no vocabulário dos bestiários medievais. \n\n\n\nA exposição será complementada por um catálogo monográfico\, que incluirá uma documentação aprofundada da exposição e textos críticos encomendados a historiadores da arte\, sociólogos e arqueólogos. Alguns dos conceitos e temas da exposição serão explorados por meio de ensaios específicos e contribuições de autores como Anna Anguissola\, Domitilla Dardi\, Gian Antonio Gilli\, Chus Martínez\, Alice Motard e Andrea Viliani.
URL:https://artequeacontece.com.br/evento/chiara-camoni-no-pirelli-hangarbicocca/
LOCATION:Fondazione Pirelli HangarBicocca\, Via Chiese 2\, Milão\, Itália
CATEGORIES:Milão
ATTACH;FMTTYPE=image/jpeg:https://artequeacontece.com.br/wp-content/uploads/2024/02/Chiara-Camoni-Barricata-1-2016-Installation-view-at-Pirelli-HangarBicocca-Milan-2024.jpg
END:VEVENT
END:VCALENDAR