BEGIN:VCALENDAR
VERSION:2.0
PRODID:-//Arte Que Acontece - ECPv6.15.20//NONSGML v1.0//EN
CALSCALE:GREGORIAN
METHOD:PUBLISH
X-WR-CALNAME:Arte Que Acontece
X-ORIGINAL-URL:https://artequeacontece.com.br
X-WR-CALDESC:Eventos para Arte Que Acontece
REFRESH-INTERVAL;VALUE=DURATION:PT1H
X-Robots-Tag:noindex
X-PUBLISHED-TTL:PT1H
BEGIN:VTIMEZONE
TZID:America/Sao_Paulo
BEGIN:STANDARD
TZOFFSETFROM:-0300
TZOFFSETTO:-0300
TZNAME:-03
DTSTART:20240101T000000
END:STANDARD
END:VTIMEZONE
BEGIN:VEVENT
DTSTART;TZID=America/Sao_Paulo:20250607T100000
DTEND;TZID=America/Sao_Paulo:20250705T190000
DTSTAMP:20260419T103717
CREATED:20250606T054254Z
LAST-MODIFIED:20250606T054254Z
UID:63079-1749290400-1751742000@artequeacontece.com.br
SUMMARY:"Cerrado Ralo" de Bruno Weilemann Belo na Aura Galeria
DESCRIPTION:Bruno Weilemann\, Sem título\, série Cerrado ralo\, 2024 – Divulgação Aura Galeria\nNo dia 07 de junho abre a individual Cerrado Ralo\, de Bruno Weilemann Belo\, artista representado pela Aura. A mostra estará aberta à visitação de 09 de junho a 05 de julho\, de segunda a sexta-feira das 10h – 19h e aos sábados das 11h – 17h\, na Rua da Consolação 2767\, no bairro Jardim Paulista. \nEm Cerrado Ralo\, Bruno Weilemann Belo reúne um recorte da sua produção recente. Com uma pesquisa que explora diferentes técnicas e materiais correntes ou não do meio pictórico\, o foco do artista nos últimos anos esteve na formulação de percepções e construções diversas para a pintura de paisagem. Tema tradicional ao campo pictórico\, como forma possível de representação do mundo\, o lugar encontrado por Bruno remonta à sua incursão de campo no final de 2022\, no bioma do Cerrado Brasileiro\, mais especificamente na região de transição entre a depressão do Tocantins e os altiplanos do Planalto Central (Goiás). A partir desse passeio\, avistamos um conjunto de relações: paragens que se revelam por vestígios\, ou uma idealização de um lugar de sentidos. \nA mostra apresenta trabalhos em tela\, em grandes e pequenas dimensões. Interesse principal dos estudos recentes de Bruno\, estarão na exposição três de suas novas pinturas em grandes formatos\, executadas com uma tinta de grande “corpo”\, matérica\, elaborada como uma emulsão a base da tinta óleo e outros materiais que passam por cargas minerais e resíduos naturais. O desenvolvimento para este novo material em sua pesquisa alcançou nos últimos anos seu interesse por referenciar estas paisagens e em especial o aspecto da secura e do sertão\, além de buscar uma maior proximidade para representar elementos do entorno como pedra\, galhos\, cascas e demais encontrados na localidade. Apesar de sempre discutir o meio da pintura\, aparece também o fazer quase de oficina com a execução de utensílios forjados\, pequenas esculturas\, fragmentos ou partes. Construídos com madeira\, aço e pedras encontradas em campo\, os objetos se apresentam como elementos desse lugar. Além de pinturas que sobrepõem outras pinturas e revelam em um único trabalho outras formas de compor o céu e apresentar a panorâmica\, agora com um olhar para dentro. \nApresentado como nome da exposição pelas características do recorte de obras selecionadas: Cerrado Ralo é a designação de um dos subtipos do bioma\, indicando uma vegetação predominante de gramíneas e arbustos baixos\, além de pouca cobertura arbórea\, com árvores menores e tortuosas. De maneira pouco referencial e reproduzindo não apenas o que é visível\, a exposição apresentada pelo pintor é uma revelação de quem passou a entender como possível pintar uma paisagem distante\, além de sua janela e tão distinta para ele. O artista que também assina a curadoria e texto\, nos conta através de horizontes o seu encantamento.
URL:https://artequeacontece.com.br/evento/cerrado-ralo-de-bruno-weilemann-belo-na-aura-galeria/
LOCATION:Aura Galeria\, Rua da Consolação\, 2767 - Jardins\, São Paulo\, SP\, Brasil
CATEGORIES:São Paulo
ATTACH;FMTTYPE=image/png:https://artequeacontece.com.br/wp-content/uploads/2025/06/Bruno-Weilemann-Sem-titulo-serie-Cerrado-ralo-2024-3-1.png
END:VEVENT
END:VCALENDAR