BEGIN:VCALENDAR
VERSION:2.0
PRODID:-//Arte Que Acontece - ECPv6.15.20//NONSGML v1.0//EN
CALSCALE:GREGORIAN
METHOD:PUBLISH
X-WR-CALNAME:Arte Que Acontece
X-ORIGINAL-URL:https://artequeacontece.com.br
X-WR-CALDESC:Eventos para Arte Que Acontece
REFRESH-INTERVAL;VALUE=DURATION:PT1H
X-Robots-Tag:noindex
X-PUBLISHED-TTL:PT1H
BEGIN:VTIMEZONE
TZID:America/Sao_Paulo
BEGIN:STANDARD
TZOFFSETFROM:-0300
TZOFFSETTO:-0300
TZNAME:-03
DTSTART:20240101T000000
END:STANDARD
END:VTIMEZONE
BEGIN:VEVENT
DTSTART;TZID=America/Sao_Paulo:20250208T140000
DTEND;TZID=America/Sao_Paulo:20250222T180000
DTSTAMP:20260422T091443
CREATED:20250212T154015Z
LAST-MODIFIED:20250212T154015Z
UID:61023-1739023200-1740247200@artequeacontece.com.br
SUMMARY:"Quantos segredos cabem num silêncio?" de Cecília D’Antino na Galeria Gravura Brasileira
DESCRIPTION:Cecília D’Antino – Divulgação\nA Galeria Gravura Brasileira\, em São Paulo\, abre sua programação de 2025 com a exposição de gravuras da artista visual e escritora Cecília D’Antino e o lançamento de seu livro de poemas “Quantos segredos cabem num silêncio?”. A exposição fica em cartaz de 8 de fevereiro a 22 de fevereiro de 2025. \nPara essa exposição foram selecionadas 30 obras criando uma conexão íntima entre a gravura e a poesia de Cecília\, que estará presente para uma sessão de autógrafos\, na abertura. \n“A alma do livro traduz o meu olhar sobre o amor e suas nuances. Esse sentimento misterioso que tanto buscamos viver na sua intensidade sendo\, na verdade\, a única forma legítima de justificar a vida”\, fala Cecilia sobre suas poesias e as gravuras. \nCecília D’Antino\, nascida em São Paulo\, é uma artista visual que também se dedica à escrita\, sem se distanciar de sua empresa de agenciamento artístico e produção cultural. Seu trabalho se expressa por meio de esculturas em argila\, resina marmorizada e cobre\, mas foi com gravura que encontrou um campo de pesquisa e experimentação com estudos com texturas de fibras naturais desconstruídas\, que a conduziram a um novo caminho. \n“Eu sempre gostei e me interessei por poesia e desde muito menina eu escrevo. Costumo dizer que uns saem do armário\, eu estou saindo da gaveta\, lançando meu primeiro livro de poesia”\, diz a artista\, que já lançou livros infantis\, “na verdade histórias que eu criava e contava para minha filha.”
URL:https://artequeacontece.com.br/evento/cecilia-dantino-na-galeria-gravura-brasileira/
LOCATION:Galeria Gravura Brasileira\, Rua Asia\, 219 - Cerqueira César\, São Paulo\, SP\, Brasil
CATEGORIES:São Paulo
ATTACH;FMTTYPE=image/jpeg:https://artequeacontece.com.br/wp-content/uploads/2025/02/PRI5763-1.jpg
END:VEVENT
END:VCALENDAR