BEGIN:VCALENDAR
VERSION:2.0
PRODID:-//Arte Que Acontece - ECPv6.15.20//NONSGML v1.0//EN
CALSCALE:GREGORIAN
METHOD:PUBLISH
X-WR-CALNAME:Arte Que Acontece
X-ORIGINAL-URL:https://artequeacontece.com.br
X-WR-CALDESC:Eventos para Arte Que Acontece
REFRESH-INTERVAL;VALUE=DURATION:PT1H
X-Robots-Tag:noindex
X-PUBLISHED-TTL:PT1H
BEGIN:VTIMEZONE
TZID:America/Sao_Paulo
BEGIN:STANDARD
TZOFFSETFROM:-0300
TZOFFSETTO:-0300
TZNAME:-03
DTSTART:20240101T000000
END:STANDARD
END:VTIMEZONE
BEGIN:VEVENT
DTSTART;TZID=America/Sao_Paulo:20250613T110000
DTEND;TZID=America/Sao_Paulo:20250803T190000
DTSTAMP:20260419T162055
CREATED:20250612T032852Z
LAST-MODIFIED:20250612T032852Z
UID:63206-1749812400-1754247600@artequeacontece.com.br
SUMMARY:"Casa Sueli Carneiro em residência" no Instituto Tomie Ohtake
DESCRIPTION:Liliane Braga em sua apresentação da primeira partilha da Residência Casa Sueli Carneiro. Foto: @casasuelicarneiro\n\n\n\n\nO Ministério da Cultura\, via Lei Federal de Incentivo à Cultura\, e o Instituto Tomie Ohtake apresentam Casa Sueli Carneiro em residência\, exposição com o patrocínio do Nubank\, mantenedor do Instituto Tomie Ohtake\, e correalização da Casa Sueli Carneiro. Sob curadoria de Luanda Carneiro Jacoel\, diretora do Legado da Casa Sueli Carneiro\, a mostra ficará em cartaz de 13 de junho a 3 de agosto de 2025\, paralelamente às exposições Teatro Experimental do Negro nas fotografias de José Medeiros\, Manuel Messias – Sem limites e Manfredo de Souzanetto – As Montanhas. A exposição integra também a programação do IV Festival Casa Sueli Carneiro\, que acontece entre os dias 24 e 29 de junho\, com o tema “Memória Negra e Reparação em Afluência”. \nA mostra é resultado de um processo formativo e coletivo\, realizado ao longo de 2024\, dentro de uma residência voltada exclusivamente a pessoas negras na Casa Sueli Carneiro. Os participantes receberam acompanhamento curatorial\, participaram de oficinas\, encontros teóricos\, vivências\, além de acesso exclusivo ao acervo da Casa\, conjugando pesquisa\, memória e experimentação a partir das contribuições do pensamento de Sueli Carneiro\, do feminismo negro brasileiro e das diásporas africanas. \nO programa foi orientado pelas pesquisadoras Luanda Carneiro Jacoel\, Taina Silva Santos e Ionara Lourenço\, e compreendeu os seguintes eixos: História Negra e Feminismos Negros\, Artes e Documentação. A experiência propôs um intercâmbio entre diferentes campos do saber e modos de criação\, incentivando a articulação entre legado\, linguagem\, arte e justiça social. \nSerão apresentados sete projetos nas áreas de artes visuais\, performance\, literatura\, audiovisual\, educação e memória que tensionam temas como feminismos negros na América Latina\, a atuação política das mulheres negras na cultura brasileira\, ancestralidade e corpo\, racismo estrutural e encarceramento\, pedagogias decoloniais e estratégias de resistência a partir da arte. São eles: \n\nAparicências\, instalação sonora de Liliane Braga (Ndembwemi)\, propõe uma fabulação entre vozes ancestrais e o acervo\, ativando a oralidade como eixo da epistemologia negra.\nGẹ̀lẹ́dẹ́ – o drama e o cultivo de micro sociedades agrícolas\, de Olaegbé (Jéssica Nascimento)\, apresenta uma máscara cerimonial africana em diálogo com imagens e dramaturgia sobre a fundação do Geledés – Instituto da Mulher Negra.\nJogo do Bem-Viver\, de Agnis Freitas e Carolina Melo\, convida o público a refletir sobre tecnologias políticas de mulheres negras por meio da ludicidade.\nEntre a esquerda e a direita\, continuo sambando\, documentário experimental de Maria Júlia Petronilho\, investiga o protagonismo das mulheres negras nas escolas de samba paulistanas.\nO Brigue de Bracuí\, documentário dirigido por Thiago Fernandes\, Mario Guetto Groove e Fael Miranda\, tensiona a história da escravidão a partir de registros e narrativas contra-hegemônicas.\nLançamento do Minidicionário Teórico Negro Brasileiro do Pensamento de Sueli Carneiro\, de Gilvaneide de Sousa Santos\, com ilustrações de Alice Guedes\, propõe uma ferramenta pedagógica para aplicação das leis 10.639/03 e 11.645/08.\nExposição virtual Racismo estrutural e políticas públicas\, de Daruê Zuhri\, apresenta reflexões visuais e textuais sobre desigualdades raciais no Brasil contemporâneo.\n\nA mostra traz ainda uma seleção de livros e documentos que integram o Acervo Sueli Carneiro\, sob curadoria de Ionara Lourenço\, coordenadora de acervos da Casa\, dispostos em diálogo com a biblioteca circulante da Casa Sueli Carneiro\, disponível temporariamente para o público na exposição. A colaboração acontece também no âmbito do projeto Experiências Negras\, criado em 2018 pelo Instituto Tomie Ohtake com o objetivo de evidenciar a atuação de profissionais negras e negros nas instituições culturais e fomentar políticas de inclusão por meio de mapeamentos\, publicações\, debates e ações formativas.
URL:https://artequeacontece.com.br/evento/casa-sueli-carneiro-em-residencia-no-instituto-tomie-ohtake/
LOCATION:Instituto Tomie Ohtake\, Rua Coropé\, 88 - Pinheiros\, São Paulo\, SP\, Brasil
CATEGORIES:São Paulo
ATTACH;FMTTYPE=image/jpeg:https://artequeacontece.com.br/wp-content/uploads/2025/06/Liliane-Braga-em-sua-apresentacao-da-primeira-partilha-da-Residencia-Casa-Sueli-Carneiro-Foto-casasuelicarneiro.jpg
END:VEVENT
END:VCALENDAR