BEGIN:VCALENDAR
VERSION:2.0
PRODID:-//Arte Que Acontece - ECPv6.15.20//NONSGML v1.0//EN
CALSCALE:GREGORIAN
METHOD:PUBLISH
X-WR-CALNAME:Arte Que Acontece
X-ORIGINAL-URL:https://artequeacontece.com.br
X-WR-CALDESC:Eventos para Arte Que Acontece
REFRESH-INTERVAL;VALUE=DURATION:PT1H
X-Robots-Tag:noindex
X-PUBLISHED-TTL:PT1H
BEGIN:VTIMEZONE
TZID:America/Sao_Paulo
BEGIN:STANDARD
TZOFFSETFROM:-0300
TZOFFSETTO:-0300
TZNAME:-03
DTSTART:20220101T000000
END:STANDARD
END:VTIMEZONE
BEGIN:VEVENT
DTSTART;TZID=America/Sao_Paulo:20230902T100000
DTEND;TZID=America/Sao_Paulo:20240414T180000
DTSTAMP:20260422T053635
CREATED:20230831T230022Z
LAST-MODIFIED:20230831T230030Z
UID:43681-1693648800-1713117600@artequeacontece.com.br
SUMMARY:"Cao Fei: o futuro não é um sonho" na Pinacoteca Contemporânea
DESCRIPTION:Cao Fei: o futuro não é um sonho é a primeira mostra individual da artista chinesa na América Latina e apresenta quatro conjuntos de trabalhos com temas que analisam o modo como as rápidas mudanças sociais do século XXI\, atravessadas pelo intensivo uso das tecnologias\, vem afetando a subjetividade e as experiências humanas. \n\n\n\nOs temas que orientam a mostra são: “Manufatura e globalização”\, “O passado e o presente do mundo vir­tual”\, “Memórias do socialismo e sci-fi” e “Urbanização e distopia”. O objetivo é introduzir a produção de Fei ao público brasileiro a partir de trabalhos que exploram mídias como o vídeo\, a fotografia e a instalação. \n\n\n\nO interesse de Cao Fei pelos impactos da revolução tecnológica que colocou a China entre os líderes globais no setor orienta a pesquisa da artista desde o início da sua carreira\, nos anos 2000.  \n\n\n\nUm de seus trabalhos mais conhecidos é o filme RMB City (2007); a partir de experimentos no jogo Second Life\, uma plataforma virtual que simula a vida real a partir da interação de avatares\, Cao Fei construiu uma enorme cidade com diversas referências à China real\, aberta ao público de 2009 a 2011 e tida como um grande experimento teste das relações entre o real o virtual. \n\n\n\nOutros destaques são os trabalhos i.Mirror [i.espelho] (2007) e Oz (2022) — que mostram a imersão da artista no Second Life e metaverso permeadas por avatares\, experiências e projeções de futuros imaginados a partir da relação entre homem e máquina —\, e as videoinstalações Rumba II: Nomad [Rumba II: Nômade]\, 2015\, e The Eternal Wave [A onda eterna]\, 2020. \n\n\n\nEm Rumba II: Nomad aspiradores robôs tentam inutilmente limpar um espaço recém demolido na periferia de Pequim e em “The Eternal Wave” Fei convida o expectador a fazer uma viagem no tempo utilizando óculos de realidade virtual\, visitando as áreas dentro e ao redor do cinema que agora sofre ameaças de demolição.
URL:https://artequeacontece.com.br/evento/cao-fei-o-futuro-nao-e-um-sonho-na-pinacoteca-contemporanea/
LOCATION:Pinacoteca Luz\, Av. Tiradentes\, 273 – Luz\, São Paulo\, SP
CATEGORIES:Destaque,São Paulo
ATTACH;FMTTYPE=image/jpeg:https://artequeacontece.com.br/wp-content/uploads/2023/08/Cao-Fei_Blueprints_Serpentine-Galleries_Flash-Art-07-1024x741-1.jpg
END:VEVENT
END:VCALENDAR