BEGIN:VCALENDAR
VERSION:2.0
PRODID:-//Arte Que Acontece - ECPv6.15.20//NONSGML v1.0//EN
CALSCALE:GREGORIAN
METHOD:PUBLISH
X-WR-CALNAME:Arte Que Acontece
X-ORIGINAL-URL:https://artequeacontece.com.br
X-WR-CALDESC:Eventos para Arte Que Acontece
REFRESH-INTERVAL;VALUE=DURATION:PT1H
X-Robots-Tag:noindex
X-PUBLISHED-TTL:PT1H
BEGIN:VTIMEZONE
TZID:America/Sao_Paulo
BEGIN:STANDARD
TZOFFSETFROM:-0300
TZOFFSETTO:-0300
TZNAME:-03
DTSTART:20230101T000000
END:STANDARD
END:VTIMEZONE
BEGIN:VEVENT
DTSTART;TZID=America/Sao_Paulo:20240822T100000
DTEND;TZID=America/Sao_Paulo:20241005T190000
DTSTAMP:20260422T054750
CREATED:20240820T145847Z
LAST-MODIFIED:20240820T145847Z
UID:50377-1724320800-1728154800@artequeacontece.com.br
SUMMARY:“Calima - Nossas camas de areia” de Pedro Motta na Galeria Silvia Cintra + Box4
DESCRIPTION:Pedro Motta\, Esqueleto da série Calima\, 2024\n\n\n\n\nA Galeria Silvia Cintra + Box 4 apresenta “Calima” e “Nossas camas de areia”\, 2 séries inéditas e idealizadas especialmente para a exposição. A obra é fruto da frente de pesquisa de Pedro Motta intitulada “Espaços confinados”\, que vem sendo desenvolvida desde meados de 2012. O tema recorrente na obra do artista\, que discute as relações entre natureza\, paisagens e intervenções humanas\, está presente nas 16 imagens de diversas dimensões da série. \nO trabalho se destaca também pela problematização das relações entre imagem\, objeto e fotografia\, atribuindo o processo de construção de sentidos às diferentes materialidades presentes nas obras. Os tons arenosos das paisagens fotografadas nos dão indícios de lugares reconhecidos como as ilhas Lanzarote\, Tenerife\, Gran Canaria\, Fuerteventura\, Isla de Lobos\, La Graciosa\, as dunas de Ibiraquera e de Lençóis Maranhenses\, ou mesmo Arkadian\, um planeta imaginário criado pelo pai do artista para um programa infantil. \nA partir deste universo recriado\, o artista tenta deslocar referências e recriar novos territórios e situações relacionadas ao estado de instabilidade psíquica do presente\, suas consequências e desdobramentos. No entanto\, não se trata de uma obra ensimesmada\, pelo contrário\, as metapaisagens se abrem para o processo de recriação\, a partir da interlocução do espectador. \n“Calima” é um fenômeno natural\, meteorológico resultante da suspensão das partículas de areia na atmosfera. Essa areia é proveniente das dunas do Saara. Muitas vezes\, ela viaja quilômetros\, atravessa mares para se depositar em regiões remotas\, cobrir ruínas de uma arquitetura em falência\, esqueletos de animais\, estradas\, barcos\, bandeiras ou sugerir novas narrativas de tempos passados. Podemos entender que nesta areia existe um tempo em suspensão e um deslocamento de imaginário de um passado remoto. Esta deposição recria situações e cobre o ambiente com inúmeras camadas de novos sentidos e novas narrativas.
URL:https://artequeacontece.com.br/evento/calima-nossas-camas-de-areia-de-pedro-motta-na-galeria-silvia-cintra-box4/
LOCATION:Galeria Silvia Cintra + Box4\, Rua das Acácias\, 104 – Gávea\, Rio de Janeiro\, RJ\, Brasil
CATEGORIES:Rio de Janeiro
ATTACH;FMTTYPE=image/jpeg:https://artequeacontece.com.br/wp-content/uploads/2024/08/Pedro-Motta-1-1.jpg
END:VEVENT
END:VCALENDAR