BEGIN:VCALENDAR
VERSION:2.0
PRODID:-//Arte Que Acontece - ECPv6.15.20//NONSGML v1.0//EN
CALSCALE:GREGORIAN
METHOD:PUBLISH
X-WR-CALNAME:Arte Que Acontece
X-ORIGINAL-URL:https://artequeacontece.com.br
X-WR-CALDESC:Eventos para Arte Que Acontece
REFRESH-INTERVAL;VALUE=DURATION:PT1H
X-Robots-Tag:noindex
X-PUBLISHED-TTL:PT1H
BEGIN:VTIMEZONE
TZID:America/Sao_Paulo
BEGIN:STANDARD
TZOFFSETFROM:-0300
TZOFFSETTO:-0300
TZNAME:-03
DTSTART:20220101T000000
END:STANDARD
END:VTIMEZONE
BEGIN:VEVENT
DTSTART;TZID=America/Sao_Paulo:20231209T110000
DTEND;TZID=America/Sao_Paulo:20240303T180000
DTSTAMP:20260419T104350
CREATED:20231211T155720Z
LAST-MODIFIED:20231211T155725Z
UID:45215-1702119600-1709488800@artequeacontece.com.br
SUMMARY:"Brasil Futuro: As formas da democracia" no Museu de Arte do Rio
DESCRIPTION:As questões da igualdade\, da diversidade\, da conquista dos direitos civis\, bem como políticas de reparação\, acolhimento e cidadania são os temas que perpassam a exposição Brasil Futuro: As formas da democracia\, que inaugura dia 09 de dezembro no Museu de Arte do Rio. Apresentada pelo Instituto Cultural Vale e o Banco de Desenvolvimento da América Latina e Caribe (CAF)\, a mostra conta com a curadoria de Lilia Schwarcz\, Paulo Vieira\, Márcio Tavares\, Rogério Carvalho e com o acompanhamento curatorial de Marcelo Campos\, Amanda Bonan e Amanda Rezende\, da equipe do MAR\, que contribui com 68 obras da coleção\, sendo que 18 delas nunca foram expostas ao público\, como um oratório do século XVIII e um adorno do povo Baniwa\, do século XX. \n\n\n\nCom o sucesso da parceria com o MAR\, a Organização de Estados Ibero-americanos para a Educação\, a Ciência e a Cultura (OEI) e o CAF assinaram um memorando de entendimento em 06.11 ampliando as ações no setor cultural para toda a América Latina e Caribe. O Museu de Arte do Rio pertence à Prefeitura do Rio de Janeiro e sua gestão é feita pelo organismo internacional desde 2021. \n\n\n\nA exposição Brasil Futuro: As formas da democracia foi inaugurada em Brasília\, no dia 01 de janeiro\, na posse do presidente Luiz Inácio Lula da Silva\, e agora a itinerância chega ao Rio de Janeiro\, após passagem pelo Pará e pela Bahia.  A exposição reúne uma variedade de obras de artistas de diferentes gerações\, raças\, gêneros e regiões do país\, colocando em pauta a grande diversidade cultural do país. Brasil Futuro é dividida em três núcleos e conta com mais de 250 obras de artistas consagrados como Djanira\, Mestre Didi\, Tarsila do Amaral\, juntamente com contemporâneos como Denilson Baniwa\, Bastardo\, Victor Fidélis e Daiara Tukano que integram a mostra.  \n\n\n\nPara o Museu de Arte do Rio\, receber uma exposição que coloca em pauta as questões da democracia brasileira é extremamente importante e necessário. “A história da retomada da democracia no Brasil através da arte é o ponto de partida de Brasil Futuro. Para o Museu de Arte do Rio é\, sem dúvida\, essa mostra ajudará a promover para os nossos visitantes um debate que trata prioritariamente da democracia\, dos direitos humanos e da igualdade. Tais temas corroboram com a missão do Museu de Arte do Rio de ser um espaço de trocas de conhecimento e da pluralidade”\, afirma Leonardo Barchini\, Diretor e Chefe da Representação da Organização de Estados Ibero-americanos para a Educação\, a Ciência e a Cultura (OEI) no Brasil\, instituição que faz a gestão do MAR.
URL:https://artequeacontece.com.br/evento/brasil-futuro-as-formas-da-democracia-no-museu-de-arte-do-rio/
LOCATION:Museu de Arte do Rio\, Praça Mauá\, 5 - Centro\, Rio de Janeiro\, RJ\, Brasil
CATEGORIES:Rio de Janeiro
ATTACH;FMTTYPE=image/jpeg:https://artequeacontece.com.br/wp-content/uploads/2023/12/2023_BrFuturo_porJPXP-E7um13_D12-1_Marlon-Amaro_Pro-futuro1-1-1-1.jpg
END:VEVENT
END:VCALENDAR