BEGIN:VCALENDAR
VERSION:2.0
PRODID:-//Arte Que Acontece - ECPv6.15.20//NONSGML v1.0//EN
CALSCALE:GREGORIAN
METHOD:PUBLISH
X-WR-CALNAME:Arte Que Acontece
X-ORIGINAL-URL:https://artequeacontece.com.br
X-WR-CALDESC:Eventos para Arte Que Acontece
REFRESH-INTERVAL;VALUE=DURATION:PT1H
X-Robots-Tag:noindex
X-PUBLISHED-TTL:PT1H
BEGIN:VTIMEZONE
TZID:America/Sao_Paulo
BEGIN:STANDARD
TZOFFSETFROM:-0300
TZOFFSETTO:-0300
TZNAME:-03
DTSTART:20240101T000000
END:STANDARD
END:VTIMEZONE
BEGIN:VEVENT
DTSTART;TZID=America/Sao_Paulo:20250128T100000
DTEND;TZID=America/Sao_Paulo:20250421T180000
DTSTAMP:20260422T093248
CREATED:20250217T140934Z
LAST-MODIFIED:20250217T140934Z
UID:61097-1738058400-1745258400@artequeacontece.com.br
SUMMARY:"Brasil! Brasil! The Birth of Modernism" na Royal Academy of Arts
DESCRIPTION:Tarsila do Amaral\, “O Lago”\, 1928. © Tarsila do Amaral SA\nUma grande exposição reunindo mais de 130 obras de dez importantes artistas brasileiros do século XX\, refletindo a diversidade da arte brasileira nesse período. \nNo início do século XX\, um novo modernismo ganhava forma no Brasil. Entre os anos 1910 e 1970\, artistas brasileiros assimilavam tendências contemporâneas\, influências internacionais e tradições artísticas para criar uma linguagem própria—uma arte moldada pelas culturas\, identidades e paisagens vibrantes do país. \nA vida cotidiana no Brasil tornou-se tema central desse modernismo emergente\, e tanto as identidades indígenas quanto a experiência afro-brasileira figuravam entre as múltiplas referências desses artistas. Tratava-se de um movimento que olhava para dentro\, explorando um vasto repertório cultural para estabelecer um caminho singular para o modernismo\, com desdobramentos por toda a América do Sul. \nA exposição oferecerá ao público do Reino Unido uma visão ampliada do modernismo brasileiro\, apresentando artistas historicamente pouco exibidos no país\, como Anita Malfatti\, pioneira do movimento\, e Tarsila do Amaral\, hoje reconhecida internacionalmente como uma das principais figuras femininas do modernismo brasileiro. Também estarão presentes obras de Alfredo Volpi e Djanira da Motta e Silva—artista autodidata de ascendência indígena—\, do afro-brasileiro Rubem Valentim e do performático Flávio de Carvalho. \nA maior parte das obras vem de coleções privadas brasileiras raramente exibidas\, além de acervos públicos do Brasil\, muitos dos quais nunca foram apresentados no Reino Unido.
URL:https://artequeacontece.com.br/evento/brasil-brasil-the-birth-of-modernism-na-royal-academy-of-arts/
LOCATION:Royal Academy of Arts\, Burlington House\, Piccadilly\, Londres\, Reino unido
CATEGORIES:Londres
ATTACH;FMTTYPE=image/jpeg:https://artequeacontece.com.br/wp-content/uploads/2025/02/mt0fbdvmsswhkpywawls-1.jpg
END:VEVENT
END:VCALENDAR