BEGIN:VCALENDAR
VERSION:2.0
PRODID:-//Arte Que Acontece - ECPv6.15.20//NONSGML v1.0//EN
CALSCALE:GREGORIAN
METHOD:PUBLISH
X-WR-CALNAME:Arte Que Acontece
X-ORIGINAL-URL:https://artequeacontece.com.br
X-WR-CALDESC:Eventos para Arte Que Acontece
REFRESH-INTERVAL;VALUE=DURATION:PT1H
X-Robots-Tag:noindex
X-PUBLISHED-TTL:PT1H
BEGIN:VTIMEZONE
TZID:America/Sao_Paulo
BEGIN:STANDARD
TZOFFSETFROM:-0300
TZOFFSETTO:-0300
TZNAME:-03
DTSTART:20230101T000000
END:STANDARD
END:VTIMEZONE
BEGIN:VEVENT
DTSTART;TZID=America/Sao_Paulo:20241102T120000
DTEND;TZID=America/Sao_Paulo:20250102T170000
DTSTAMP:20260419T143453
CREATED:20241113T185122Z
LAST-MODIFIED:20241113T185122Z
UID:59405-1730548800-1735837200@artequeacontece.com.br
SUMMARY:"Juana Meneses: The Weight of Things" na Oolite Arts
DESCRIPTION:Obra de Juana Meneses. Via oolitearts.org\n\n\n\n\nA série The Stranger’s Luggage\, um projeto de arte pública para o Aeroporto Internacional de Los Angeles\, é o ponto de partida para The Weight of Things. Os murais são impressos em faixas comerciais e baseados em pinturas nas quais explorei as histórias pessoais contidas nas malas de pessoas fictícias em movimento. Na realidade\, eu estava contando a minha própria história. Minha família tem embalado e se mudado para diferentes cidades e países desde que me lembro\, às vezes por escolha e outras por necessidade. \nEm The Weight of Things\, meu objetivo é construir um palimpsesto contínuo\, reaproveitando e reciclando roupas velhas\, guardanapos\, toalhas de mesa e outros tecidos para contar histórias — lembrando como meu pai nos trouxe para este país\, como meu irmão e eu não falávamos inglês quando chegamos\, como as pessoas nos perguntavam se morávamos na selva\, porque isso era o que viam em Miami Vice. Cruzamos este país muitas vezes\, procurando o nosso lugar\, e\, no final\, alguns de nós não o encontraram aqui.
URL:https://artequeacontece.com.br/evento/bounce-na-oolite-arts-2/
LOCATION:Oolite Arts\, 924 Lincoln Road\, 2nd Floor\, Miami\, Flórida\, Estados Unidos
CATEGORIES:Miami
ATTACH;FMTTYPE=image/jpeg:https://artequeacontece.com.br/wp-content/uploads/2024/11/4_Meneses_The-Weight-of-All-Things-1030x1030-1.jpg
END:VEVENT
END:VCALENDAR