BEGIN:VCALENDAR
VERSION:2.0
PRODID:-//Arte Que Acontece - ECPv6.15.20//NONSGML v1.0//EN
CALSCALE:GREGORIAN
METHOD:PUBLISH
X-WR-CALNAME:Arte Que Acontece
X-ORIGINAL-URL:https://artequeacontece.com.br
X-WR-CALDESC:Eventos para Arte Que Acontece
REFRESH-INTERVAL;VALUE=DURATION:PT1H
X-Robots-Tag:noindex
X-PUBLISHED-TTL:PT1H
BEGIN:VTIMEZONE
TZID:America/Sao_Paulo
BEGIN:STANDARD
TZOFFSETFROM:-0300
TZOFFSETTO:-0300
TZNAME:-03
DTSTART:20240101T000000
END:STANDARD
END:VTIMEZONE
BEGIN:VEVENT
DTSTART;TZID=America/Sao_Paulo:20251022T100000
DTEND;TZID=America/Sao_Paulo:20251119T190000
DTSTAMP:20260419T115039
CREATED:20251023T173523Z
LAST-MODIFIED:20251023T173523Z
UID:65865-1761127200-1763578800@artequeacontece.com.br
SUMMARY:“Bordas da Tarde” de Felipe Cohen no Silvia Cintra + Box 4
DESCRIPTION:Felipe Cohen\, “Resto de Luz” 2024. Divulgação.\n  \n“Bordas da Tarde” aprofunda a investigação de Felipe Cohen sobre a relação entre a passagem do tempo e a paisagem\, umeixo central em sua produção. A exposição reúne um conjunto de quatro trabalhos escultóricos em pedra\, vidro e madeira\, edez pinturas em acrílica sobre tela\, apresentadas em duas dimensões distintas\, todas inéditas. \nO trabalho de Cohen nesta exposição explora a intersecção entre a paisagem e a temporalidade. Elementos visuais recor-rentes\, como formas que se aproximam de ampulhetas e vales\, são empregados em composições bidimensionais e tridimen-sionais. A repetição da forma em “X” ou em losangos estabelece um vocabulário modular que busca materializar fenômenos \nabstratos – como o tempo e as sensações atmosféricas decorrentes dos efeitos da luz no espaço.Nas pinturas\, a abordagem construtiva dos espaços é definida pelas bordas e contornos. Estes elementos\, com variaçõesde brilho e tonalidade em relação aos seus fundos\, sugerem diferentes profundidades e topografias. A pesquisa pictórica searticula a partir de quatro componentes conceituais: sólido\, atmosférico\, luminoso e líquido\, delineando paisagens de valesatravés de uma estrutura formal rigorosa. \nAs esculturas complementam esta pesquisa\, traduzindo a mesma linguagem formal modular em materiais como a pedra\, ovidro e a madeira. A seleção material intensifica o diálogo com a natureza e com a percepção da passagem\, explorando asinterações entre densidade\, transparência e forma. \n“Bordas da Tarde” propõe um percurso expositivo que convida à observação das fronteiras entre o tangível e o conceitual\,através da sistematização de formas e da exploração da matéria. \n  \n  \n  \n 
URL:https://artequeacontece.com.br/evento/bordas-da-tarde-de-felipe-cohen-no-silvia-cintra-box-4/
LOCATION:Galeria Silvia Cintra + Box4\, Rua das Acácias\, 104 – Gávea\, Rio de Janeiro\, RJ\, Brasil
CATEGORIES:Rio de Janeiro
ATTACH;FMTTYPE=image/png:https://artequeacontece.com.br/wp-content/uploads/2025/10/Felipe-Cohen-Resto-de-Luz.png
END:VEVENT
END:VCALENDAR