BEGIN:VCALENDAR
VERSION:2.0
PRODID:-//Arte Que Acontece - ECPv6.15.20//NONSGML v1.0//EN
CALSCALE:GREGORIAN
METHOD:PUBLISH
X-WR-CALNAME:Arte Que Acontece
X-ORIGINAL-URL:https://artequeacontece.com.br
X-WR-CALDESC:Eventos para Arte Que Acontece
REFRESH-INTERVAL;VALUE=DURATION:PT1H
X-Robots-Tag:noindex
X-PUBLISHED-TTL:PT1H
BEGIN:VTIMEZONE
TZID:America/Sao_Paulo
BEGIN:STANDARD
TZOFFSETFROM:-0300
TZOFFSETTO:-0300
TZNAME:-03
DTSTART:20220101T000000
END:STANDARD
END:VTIMEZONE
BEGIN:VEVENT
DTSTART;TZID=America/Sao_Paulo:20230307T110000
DTEND;TZID=America/Sao_Paulo:20230416T200000
DTSTAMP:20260422T070802
CREATED:20230314T183719Z
LAST-MODIFIED:20230320T201804Z
UID:39278-1678186800-1681675200@artequeacontece.com.br
SUMMARY:Bob Wolfenson no MIS
DESCRIPTION:Em 2022\, o premiado fotógrafo Bob Wolfenson\, que possui obras no acervo de espaços como Itaú Cultural\, Museu de Arte Contemporânea de São Paulo (MAC) e Zacheta National Gallery of Art (Varsóvia)\, firmou uma parceria com o Instituto Olga para o lançamento de seu novo livro\, O Livro Falado. A publicação consiste em uma viagem através de toda a carreira e obras do artista\, com comentários acerca de cada pedaço de sua história e é acompanhada por uma exposição de obras do fotógrafo no Museu da Imagem e do Som de São Paulo. Fundado em 2007\, o Instituto Olga promove a inclusão de pessoas com deficiência e em situação de vulnerabilidade social através de oficinas e projetos culturais e esportivos. Durante esse projeto\, Bob Wolfenson participou de oficinas e workshops gratuitos para beneficiários do Instituto. Algumas fotografias de participantes produzidas durante as oficinas estarão expostas junto das obras do fotógrafo. Bob Wolfenson dispensa apresentações. Um dos maiores retratistas de celebridades do Brasil\, o fotógrafo tem entre seus famosos personagens Iggy Pop\, Luiz Melodia\, Fernanda Montenegro\, Caetano Veloso\, Giselle Bündchen\, José Celso Martinez Correa e muitos outros. Além de exímio fotógrafo de pessoas\, seja na vertente do retrato\, do nu (amplamente exercitado em ensaios para a revista Playboy) ou da moda\, Wolfenson também exercita seu foco em imagens arquitetônicas\, como do icônico edifício Copan\, de design e de situações cotidianas\, em uma produção que passeia por todos os estilos fotográficos. Nascido em 1954\, Roberto Wolfenson iniciou sua carreira aos 16 anos\, na Editora Abril\, fotografando para as várias publicações da empresa. Após voltar de uma temporada em NY em 1982\, sua carreira decolou e ele passou a assinar inúmeros editoriais. A consagração veio com a exposição Jardim da Luz (1996\, também publicada como livro)\, no Masp. Hoje\, o fotógrafo tem cerca de uma dezena de livros publicados\, dirigiu duas revistas voltadas à fotografia e é considerado um dos maiores nomes dessa arte na América Latina.
URL:https://artequeacontece.com.br/evento/bob-wolfenson-no-mis/
LOCATION:MIS\, 158 Av. Europa Jardim Europa\, São Paulo\, São Paulo\, Brasil
CATEGORIES:São Paulo
ATTACH;FMTTYPE=image/png:https://artequeacontece.com.br/wp-content/uploads/2023/03/wolfenson-1.png
END:VEVENT
END:VCALENDAR