BEGIN:VCALENDAR
VERSION:2.0
PRODID:-//Arte Que Acontece - ECPv6.15.20//NONSGML v1.0//EN
CALSCALE:GREGORIAN
METHOD:PUBLISH
X-WR-CALNAME:Arte Que Acontece
X-ORIGINAL-URL:https://artequeacontece.com.br
X-WR-CALDESC:Eventos para Arte Que Acontece
REFRESH-INTERVAL;VALUE=DURATION:PT1H
X-Robots-Tag:noindex
X-PUBLISHED-TTL:PT1H
BEGIN:VTIMEZONE
TZID:America/Sao_Paulo
BEGIN:STANDARD
TZOFFSETFROM:-0300
TZOFFSETTO:-0300
TZNAME:-03
DTSTART:20230101T000000
END:STANDARD
END:VTIMEZONE
BEGIN:VEVENT
DTSTART;TZID=America/Sao_Paulo:20240405T110000
DTEND;TZID=America/Sao_Paulo:20240811T180000
DTSTAMP:20260422T054409
CREATED:20240422T182751Z
LAST-MODIFIED:20240422T182754Z
UID:48280-1712314800-1723399200@artequeacontece.com.br
SUMMARY:"Bloco do Prazer" no Museu de Arte do Rio
DESCRIPTION:Foto: Marcio Vasconcelos\, Cazumbas\n\n\n\nOs versos de Fausto Nilo e Moraes Moreira eternizados na canção interpretada por Gal Costa serviram como fonte de inspiração para a nova exposição do Museu de Arte do Rio. “Bloco do Prazer”\, título da música lançada em 1982\, dá nome à mostra que inaugura no dia 05 de abril no MAR\, e apresenta ao público festas e celebrações que configuram momentos de alegria\, catarse\, transe e desejo da cultura brasileira. A exposição tem curadoria de Marcelo Campos\, Amanda Bonan\, Thayná Trindade\, Amanda Rezende\, Jean Carlos Azuos e do curador convidado Bitú Cassundé.
URL:https://artequeacontece.com.br/evento/bloco-do-prazer-no-museu-de-arte-do-rio/
LOCATION:Museu de Arte do Rio\, Praça Mauá\, 5 - Centro\, Rio de Janeiro\, RJ\, Brasil
CATEGORIES:Rio de Janeiro
ATTACH;FMTTYPE=image/jpeg:https://artequeacontece.com.br/wp-content/uploads/2024/04/Marcio-Vasconcelos_Cazumbas.jpg
END:VEVENT
END:VCALENDAR