BEGIN:VCALENDAR
VERSION:2.0
PRODID:-//Arte Que Acontece - ECPv6.15.20//NONSGML v1.0//EN
CALSCALE:GREGORIAN
METHOD:PUBLISH
X-WR-CALNAME:Arte Que Acontece
X-ORIGINAL-URL:https://artequeacontece.com.br
X-WR-CALDESC:Eventos para Arte Que Acontece
REFRESH-INTERVAL;VALUE=DURATION:PT1H
X-Robots-Tag:noindex
X-PUBLISHED-TTL:PT1H
BEGIN:VTIMEZONE
TZID:America/Sao_Paulo
BEGIN:STANDARD
TZOFFSETFROM:-0300
TZOFFSETTO:-0300
TZNAME:-03
DTSTART:20220101T000000
END:STANDARD
END:VTIMEZONE
BEGIN:VEVENT
DTSTART;TZID=America/Sao_Paulo:20230224T100000
DTEND;TZID=America/Sao_Paulo:20230625T193000
DTSTAMP:20260422T070938
CREATED:20230414T230123Z
LAST-MODIFIED:20230414T230127Z
UID:39948-1677232800-1687721400@artequeacontece.com.br
SUMMARY:Bill Viola no Palazzo Reale
DESCRIPTION:A individual de Bill Viola\, promovida pelo Departamento de Cultural da Cidade de Milão\, é produzida e organizada pelo Palazzo Reale e Arthemisia com a colaboração do Bill Viola Studio\, traçando uma retrospectiva de toda a carreira do artista estadunidense\, apresentando ao público quinze obras-primas nas salas do Palazzo Reale. A exposição milanesa oferece aos visitantes um caminho no qual se encontram contemplando as questões profundas que Viola explora com imagens em câmera lenta nas quais luz\, cor e som podem criar momentos de profunda introspecção. Emoções\, meditações e paixões podem emergir de seus vídeos\, levando o espectador a uma viagem interior. Sob a curadoria especializada de Kira Perov\, esposa do artista e diretora executiva do estúdio Bill Viola\, obras que foram produzidas ao longo de mais de trinta anos são exibidas por meio de uma cuidadosa curadoria\, definindo um evento único\, que proporciona a oportunidade de refletir sobre a vida\, embarcar na própria jornada interior e mergulhar em um mundo alternativo\, completamente diferente daquele que se deixa para trás na entrada. A exposição é acompanhada por um catálogo que não é apenas uma documentação da exposição\, mas sim um verdadeiro material de registro da obra do artistas e de estudo para as gerações futuras. A exposição faz parte da Semana de Arte de Milão (11 a 16 de abril de 2023)\, o evento amplamente difundido e coordenado pelo Departamento de Cultura da Cidade de Milão em colaboração com a Miart\, que interliga as principais instituições públicas da cidade e fundações privadas que lidam com arte moderna e contemporânea\, com um programa dedicado de exposições e atividades.
URL:https://artequeacontece.com.br/evento/bill-viola-no-palazzo-reale/
LOCATION:Palazzo Reale\, Piazza del Duomo\, 12\, Milão\, Itália
CATEGORIES:Milão
ATTACH;FMTTYPE=image/jpeg:https://artequeacontece.com.br/wp-content/uploads/2023/04/viola.jpg
END:VEVENT
END:VCALENDAR